BEGIN:VCALENDAR
VERSION:2.0
PRODID:-//Jeffrey Earnhardt Racing Experience - ECPv6.15.20//NONSGML v1.0//EN
CALSCALE:GREGORIAN
METHOD:PUBLISH
X-ORIGINAL-URL:https://jeffreyearnhardtracingexperience.com
X-WR-CALDESC:Events for Jeffrey Earnhardt Racing Experience
REFRESH-INTERVAL;VALUE=DURATION:PT1H
X-Robots-Tag:noindex
X-PUBLISHED-TTL:PT1H
BEGIN:VTIMEZONE
TZID:America/New_York
BEGIN:DAYLIGHT
TZOFFSETFROM:-0500
TZOFFSETTO:-0400
TZNAME:EDT
DTSTART:20250309T070000
END:DAYLIGHT
BEGIN:STANDARD
TZOFFSETFROM:-0400
TZOFFSETTO:-0500
TZNAME:EST
DTSTART:20251102T060000
END:STANDARD
BEGIN:DAYLIGHT
TZOFFSETFROM:-0500
TZOFFSETTO:-0400
TZNAME:EDT
DTSTART:20260308T070000
END:DAYLIGHT
BEGIN:STANDARD
TZOFFSETFROM:-0400
TZOFFSETTO:-0500
TZNAME:EST
DTSTART:20261101T060000
END:STANDARD
BEGIN:DAYLIGHT
TZOFFSETFROM:-0500
TZOFFSETTO:-0400
TZNAME:EDT
DTSTART:20270314T070000
END:DAYLIGHT
BEGIN:STANDARD
TZOFFSETFROM:-0400
TZOFFSETTO:-0500
TZNAME:EST
DTSTART:20271107T060000
END:STANDARD
END:VTIMEZONE
BEGIN:VEVENT
DTSTART;TZID=America/New_York:20260404T090000
DTEND;TZID=America/New_York:20260404T150000
DTSTAMP:20260421T113443
CREATED:20251107T173758Z
LAST-MODIFIED:20260302T143001Z
UID:10000082-1775293200-1775314800@jeffreyearnhardtracingexperience.com
SUMMARY:Richmond Raceway
DESCRIPTION:Jeffrey Earnhardt Racing Experience at Richmond Raceway \nFeel the rush of real short-track racing under the lights at the legendary Richmond Raceway with the Jeffrey Earnhardt Racing Experience! This is your chance to get behind the wheel of a Modified or Cup or GEN6 racecar and drive on one of NASCAR’s most exciting tracks. \nYour day begins with a detailed driver’s orientation led by professional instructors who will teach you everything you need to know—from car handling and track entry to the perfect racing line around Richmond’s smooth\, high-speed ¾-mile D-shaped oval. No prior racing experience is required—just a passion for speed and adventure! \nOnce you’re suited up and strapped in\, the green flag drops and it’s all you. Feel the power as your racecar roars down the straightaways and hugs the turns on the same track that’s hosted NASCAR’s greatest stars. There’s no pace car\, no speed limits—just pure adrenaline as you experience what it’s like to be a real driver at one of the most popular tracks in America. \nChoose between the open-wheel thrill of a Modified or the incredible horsepower of a Cup or GEN6 car\, and discover what makes short-track racing so exhilarating. \nHighlights:\n🏁 Drive a Real Racecar – Choose from Modified\, Cup or GEN6 cars.🔥 Historic NASCAR Venue – Take laps on the iconic Richmond Raceway.👨‍🏫 Professional Instruction – Learn from experienced racing pros—no experience needed.🎁 Perfect Gift Idea – Great for racing fans\, thrill seekers\, or bucket-list dreamers. \nDon’t just watch the action—be part of it!Book your spot today and experience the unforgettable excitement of the Jeffrey Earnhardt Racing Experience at Richmond Raceway! 🏁 \nFOR A LIMITED TIME ALL DRIVING PACKAGES ARE 40% OFF!\nBOOK NOW
URL:https://jeffreyearnhardtracingexperience.com/event/richmond-raceway-4-4-26/
LOCATION:Richmond Raceway\, 600 E Laburnum Ave\, Richmond\, VA\, 23222\, United States
CATEGORIES:April 2026,Virginia
ATTACH;FMTTYPE=image/png:https://jeffreyearnhardtracingexperience.com/wp-content/uploads/2025/11/richmond-raceway-logo.png
ORGANIZER;CN="Jeffrey Earnhardt Racing Experience":MAILTO:support@jeffreyearnhardtracingexperience.com
END:VEVENT
BEGIN:VEVENT
DTSTART;TZID=America/New_York:20260411T100000
DTEND;TZID=America/New_York:20260411T160000
DTSTAMP:20260421T113443
CREATED:20251121T220507Z
LAST-MODIFIED:20251209T162058Z
UID:10000103-1775901600-1775923200@jeffreyearnhardtracingexperience.com
SUMMARY:South Boston Speedway
DESCRIPTION:Jeffrey Earnhardt Racing Experience at South Boston Speedway \nStep into the driver’s seat and feel the rush of real stock car racing at South Boston Speedway with the Jeffrey Earnhardt Racing Experience! Located in South Boston\, Virginia\, this 4/10-mile asphalt oval\, known for its rich racing history and exciting layout\, is the perfect venue for your racing dreams to come to life. \nYour adventure begins with a professional orientation led by experienced instructors. They’ll teach you everything you need to know about driving a racecar\, including car handling\, safety guidelines\, and track dynamics. Whether you’re a first-time driver or a motorsports fan\, our team ensures you’re ready to hit the track confidently. \nOnce you’re suited up in authentic racing gear\, climb behind the wheel of a late model\, super late model or open wheel modified racecar and take control. Feel the power of the engine as you navigate the challenging straightaways and tight turns of South Boston Speedway\, a track that has tested some of the best drivers in the sport. \nNot ready to drive? Opt for a ride-along experience and let a professional driver take you for an unforgettable\, high-speed thrill around the track. \nThe Jeffrey Earnhardt Racing Experience at South Boston Speedway is perfect for individuals\, group outings\, or anyone looking for a one-of-a-kind adventure. \nHighlights:\n\nDrive a Racecar on the legendary South Boston Speedway.\nProfessional Training to guide you through a safe and exhilarating experience.\nRide-Along Packages for non-drivers who want to feel the speed and excitement.\nNo Experience Necessary – Perfect for beginners and seasoned racing fans alike.\nUpgrades Available to customize your racing adventure.\n\nDon’t just dream about racing—experience it! Book your spot today and take on the track at South Boston Speedway with the Jeffrey Earnhardt Racing Experience. 🏁 \nFOR A LIMITED TIME ALL DRIVING PACKAGES ARE 50% OFF!\nBOOK NOW
URL:https://jeffreyearnhardtracingexperience.com/event/south-boston-speedway-4-11-26/
LOCATION:South Boston Speedway\, 1188 James D Hagood Hwy\, South Boston\, VA\, 24592\, United States
CATEGORIES:April 2026,Virginia
ATTACH;FMTTYPE=image/png:https://jeffreyearnhardtracingexperience.com/wp-content/uploads/2024/12/south-boston-speedway-logo.png
ORGANIZER;CN="Jeffrey Earnhardt Racing Experience":MAILTO:support@jeffreyearnhardtracingexperience.com
END:VEVENT
BEGIN:VEVENT
DTSTART;TZID=America/New_York:20260412T100000
DTEND;TZID=America/New_York:20260412T150000
DTSTAMP:20260421T113443
CREATED:20251202T180440Z
LAST-MODIFIED:20251202T180639Z
UID:10000105-1775988000-1776006000@jeffreyearnhardtracingexperience.com
SUMMARY:Dominion Raceway
DESCRIPTION:Jeffrey Earnhardt Racing Experience at Dominion Raceway \nExperience the thrill of stock car racing at Dominion Raceway with the Jeffrey Earnhardt Racing Experience! Located in Thornburg\, Virginia\, this state-of-the-art 4/10-mile asphalt oval provides the perfect setting for an unforgettable day behind the wheel of a late model\, super late model or open wheel modified racecar. \nYour adventure begins with a detailed orientation led by our experienced instructors\, covering car controls\, racing techniques\, and track safety. No prior experience is necessary—our team ensures you’re ready to take on the track\, whether it’s your first time driving or you’re a lifelong motorsports fan. \nSuit up in authentic racing gear\, buckle in\, and feel the adrenaline rush as you fire up the engine and take the wheel. Navigate the smooth straightaways and tackle the banked corners of Dominion Raceway as you experience the speed and power of a real race-prepped stock car. \nPrefer to ride along? Our ride-along packages let you experience the excitement from the passenger seat with a professional driver at the helm\, giving you a taste of the action at full throttle. \nPerfect for individuals\, groups\, or special occasions\, the Jeffrey Earnhardt Racing Experience at Dominion Raceway is your chance to make lasting memories on the track. \nHighlights:\n\nDrive a Racecar on the dynamic Dominion Raceway oval.\nProfessional Instruction ensures a safe and exciting experience.\nRide-Along Packages for non-drivers who want to feel the speed.\nNo Experience Needed – Great for beginners and racing enthusiasts alike.\nCustom Upgrades to enhance your racing adventure.\n\nDon’t miss the opportunity to turn your racing dreams into reality. Book your spot today and join us for an incredible day at Dominion Raceway! 🏁 \nFOR A LIMITED TIME ALL DRIVING PACKAGES ARE 50% OFF!\nBOOK NOW
URL:https://jeffreyearnhardtracingexperience.com/event/dominion-raceway-4-12-26/
LOCATION:Dominion Raceway\, 6501 Dominion Raceway Ave\, Woodford\, 22580\, United States
CATEGORIES:April 2026,Virginia
ATTACH;FMTTYPE=image/jpeg:https://jeffreyearnhardtracingexperience.com/wp-content/uploads/2024/12/Dominion-Raceway.jpg
ORGANIZER;CN="Jeffrey Earnhardt Racing Experience":MAILTO:support@jeffreyearnhardtracingexperience.com
END:VEVENT
END:VCALENDAR