BEGIN:VCALENDAR
VERSION:2.0
PRODID:-//Jeffrey Earnhardt Racing Experience - ECPv6.15.20//NONSGML v1.0//EN
CALSCALE:GREGORIAN
METHOD:PUBLISH
X-WR-CALNAME:Jeffrey Earnhardt Racing Experience
X-ORIGINAL-URL:https://jeffreyearnhardtracingexperience.com
X-WR-CALDESC:Events for Jeffrey Earnhardt Racing Experience
REFRESH-INTERVAL;VALUE=DURATION:PT1H
X-Robots-Tag:noindex
X-PUBLISHED-TTL:PT1H
BEGIN:VTIMEZONE
TZID:America/New_York
BEGIN:DAYLIGHT
TZOFFSETFROM:-0500
TZOFFSETTO:-0400
TZNAME:EDT
DTSTART:20250309T070000
END:DAYLIGHT
BEGIN:STANDARD
TZOFFSETFROM:-0400
TZOFFSETTO:-0500
TZNAME:EST
DTSTART:20251102T060000
END:STANDARD
BEGIN:DAYLIGHT
TZOFFSETFROM:-0500
TZOFFSETTO:-0400
TZNAME:EDT
DTSTART:20260308T070000
END:DAYLIGHT
BEGIN:STANDARD
TZOFFSETFROM:-0400
TZOFFSETTO:-0500
TZNAME:EST
DTSTART:20261101T060000
END:STANDARD
BEGIN:DAYLIGHT
TZOFFSETFROM:-0500
TZOFFSETTO:-0400
TZNAME:EDT
DTSTART:20270314T070000
END:DAYLIGHT
BEGIN:STANDARD
TZOFFSETFROM:-0400
TZOFFSETTO:-0500
TZNAME:EST
DTSTART:20271107T060000
END:STANDARD
END:VTIMEZONE
BEGIN:VEVENT
DTSTART;TZID=America/New_York:20260830T110000
DTEND;TZID=America/New_York:20260830T160000
DTSTAMP:20260421T102555
CREATED:20260116T221448Z
LAST-MODIFIED:20260116T221544Z
UID:10000112-1788087600-1788105600@jeffreyearnhardtracingexperience.com
SUMMARY:Riverhead Raceway
DESCRIPTION:Jeffrey Earnhardt Racing Experience at Riverhead Raceway \nStep into the driver’s seat and experience the thrill of short-track racing at Riverhead Raceway with the Jeffrey Earnhardt Racing Experience! Located in Riverhead\, New York\, this legendary 1/4-mile asphalt oval has been thrilling fans for decades and now it’s your turn to feel the adrenaline of real stock car racing. \nYour day begins with a comprehensive orientation led by our experienced instructors. They’ll cover safety procedures\, car handling techniques\, and tips for mastering Riverhead’s tight turns and short straightaways. No experience is necessary—our team ensures you’re fully prepared for this exciting adventure. \nOnce suited up in professional racing gear\, you’ll take the wheel of a late mode\, super late model or open wheel modified racecar. Feel the rush of accelerating through the straights and navigating the challenging corners of one of the most iconic short tracks in the Northeast. Each lap is a heart-pounding experience that puts you in the shoes of a real racecar driver. \nNot quite ready to drive? Our ride-along packages let you experience the excitement from the passenger seat\, as a professional driver takes you on a high-speed lap around the track. \nWhether you’re looking for an individual thrill\, a unique group outing\, or a memorable way to celebrate a special occasion\, the Jeffrey Earnhardt Racing Experience at Riverhead Raceway delivers an unforgettable day of speed and excitement. \nHighlights:\n\nDrive a Racecar on the historic Riverhead Raceway.\nProfessional Instruction to ensure safety and confidence on the track.\nRide-Along Packages for those who want the thrill without driving.\nNo Experience Required – Perfect for everyone\, from beginners to racing fans.\nUpgrades Available to customize and enhance your racing adventure.\n\nDon’t miss your chance to race at one of New York’s most iconic short tracks. Book your spot today and join us at Riverhead Raceway for the Jeffrey Earnhardt Racing Experience! 🏁 \nFOR A LIMITED TIME ALL DRIVING PACKAGES ARE 50% OFF!\nBOOK NOW
URL:https://jeffreyearnhardtracingexperience.com/event/riverhead-raceway-8-30-2026/
LOCATION:Riverhead Raceway\, 1797 Old Country Rd\, New York\, NY\, 11901\, United States
CATEGORIES:August 2026,New York
ATTACH;FMTTYPE=image/jpeg:https://jeffreyearnhardtracingexperience.com/wp-content/uploads/2024/12/riverhead-raceway-1.jpg
ORGANIZER;CN="Jeffrey Earnhardt Racing Experience":MAILTO:support@jeffreyearnhardtracingexperience.com
END:VEVENT
END:VCALENDAR