BEGIN:VCALENDAR
VERSION:2.0
PRODID:-//Jeffrey Earnhardt Racing Experience - ECPv6.15.20//NONSGML v1.0//EN
CALSCALE:GREGORIAN
METHOD:PUBLISH
X-WR-CALNAME:Jeffrey Earnhardt Racing Experience
X-ORIGINAL-URL:https://jeffreyearnhardtracingexperience.com
X-WR-CALDESC:Events for Jeffrey Earnhardt Racing Experience
REFRESH-INTERVAL;VALUE=DURATION:PT1H
X-Robots-Tag:noindex
X-PUBLISHED-TTL:PT1H
BEGIN:VTIMEZONE
TZID:America/New_York
BEGIN:DAYLIGHT
TZOFFSETFROM:-0500
TZOFFSETTO:-0400
TZNAME:EDT
DTSTART:20250309T070000
END:DAYLIGHT
BEGIN:STANDARD
TZOFFSETFROM:-0400
TZOFFSETTO:-0500
TZNAME:EST
DTSTART:20251102T060000
END:STANDARD
BEGIN:DAYLIGHT
TZOFFSETFROM:-0500
TZOFFSETTO:-0400
TZNAME:EDT
DTSTART:20260308T070000
END:DAYLIGHT
BEGIN:STANDARD
TZOFFSETFROM:-0400
TZOFFSETTO:-0500
TZNAME:EST
DTSTART:20261101T060000
END:STANDARD
BEGIN:DAYLIGHT
TZOFFSETFROM:-0500
TZOFFSETTO:-0400
TZNAME:EDT
DTSTART:20270314T070000
END:DAYLIGHT
BEGIN:STANDARD
TZOFFSETFROM:-0400
TZOFFSETTO:-0500
TZNAME:EST
DTSTART:20271107T060000
END:STANDARD
END:VTIMEZONE
BEGIN:VEVENT
DTSTART;TZID=America/New_York:20260613T100000
DTEND;TZID=America/New_York:20260613T180000
DTSTAMP:20260420T094426
CREATED:20251120T195346Z
LAST-MODIFIED:20251121T154019Z
UID:10000091-1781344800-1781373600@jeffreyearnhardtracingexperience.com
SUMMARY:Carteret County Speedway
DESCRIPTION:Jeffrey Earnhardt Racing Experience at Carteret County Speedway \nGet ready to feel pure short-track excitement at one of the most scenic racing venues on the East Coast—the Jeffrey Earnhardt Racing Experience at Carteret County Speedway! This fast\, smooth 4/10-mile oval delivers the perfect blend of speed and technical challenge\, making it an ideal place for drivers of every skill level to experience real stock-car driving. \nYour experience begins with a detailed driver orientation led by our professional instructors. They’ll walk you through safety procedures\, racing lines\, and driving techniques designed to help you get the most out of your time behind the wheel. No prior racing experience is required—just bring your adrenaline and excitement! \nOnce you’re suited up and strapped into one of our real NASCAR-style stock cars\, you’ll roll onto the track and unleash the power. Feel the acceleration as you charge down the straightaways and master Carteret County’s smooth\, sweeping turns. With no speed limits and no pace car\, you’re in control of the thrill from start to finish. \nPrefer to experience the speed without driving? Our Ride-Along Experience lets you strap in as a pro driver shows you what real race-pace feels like. \nHighlights:\n🏁 Drive a Real Stock Car on Carteret County’s pristine 4/10-mile oval🌊 Coastal Racing Experience at one of North Carolina’s most unique tracks👨‍🏫 Professional Instruction included—perfect for beginners and seasoned fans💨 No Pace Car & No Speed Limits—your laps\, your speed🎁 An unforgettable gift or bucket-list adventure \nTake the wheel\, feel the horsepower\, and live the rush.Book your Jeffrey Earnhardt Racing Experience at Carteret County Speedway today! 🏁 \nFOR A LIMITED TIME ALL DRIVING PACKAGES ARE 50% OFF!\nBOOK NOW
URL:https://jeffreyearnhardtracingexperience.com/event/carteret-county-speedway-6-13-26/
LOCATION:Carteret County Speedway\, 501 Whitehouse Fork Rd\, Swansboro\, 28584\, United States
CATEGORIES:June 2026,North Carolina
ATTACH;FMTTYPE=image/png:https://jeffreyearnhardtracingexperience.com/wp-content/uploads/2025/11/Carteret-Speedway-logo.png
END:VEVENT
BEGIN:VEVENT
DTSTART;TZID=America/New_York:20260718T100000
DTEND;TZID=America/New_York:20260718T160000
DTSTAMP:20260420T094426
CREATED:20260102T102414Z
LAST-MODIFIED:20260102T184850Z
UID:10000110-1784368800-1784390400@jeffreyearnhardtracingexperience.com
SUMMARY:Tri-County Speedway NC
DESCRIPTION:Jeffrey Earnhardt Racing Experience at Tri-County Motor Speedway (North Carolina) \nExperience the heart of short-track racing at Tri-County Motor Speedway with the Jeffrey Earnhardt Racing Experience! Located in Hudson\, North Carolina\, this fast 4/10-mile oval is a true racer’s track—wide\, smooth\, and built for speed. Now\, it’s your chance to get behind the wheel and experience real stock car racing where generations of drivers have competed. \nYour day begins with a comprehensive driver orientation led by professional instructors. You’ll learn the racing line\, throttle control\, braking points\, and safety procedures to help you feel confident and ready before hitting the track. No prior racing experience is required—our team will guide you every step of the way. \nOnce you’re suited up and strapped into a real NASCAR-style stock car\, you’ll roll onto the racing surface and feel the power come alive. Tri-County’s long straightaways and sweeping corners allow you to build speed and find a rhythm\, delivering an authentic short-track racing experience. With no pace car and no speed limits\, you control the thrill from green flag to checkered. \nNot ready to drive? Our Ride-Along Experience lets you strap in as a professional driver shows you what true race pace feels like. \nHighlights:\n🏁 Drive a real stock car on one of North Carolina’s premier short tracks🔥 Fast\, smooth 4/10-mile oval designed for high-speed racing👨‍🏫 Professional instruction included—perfect for beginners and race fans alike💨 No pace car—pure driving excitement🎁 Perfect for gifts\, groups\, and bucket-list experiences \nDon’t just watch from the stands—take the wheel and race it yourself.Book your Jeffrey Earnhardt Racing Experience at Tri-County Motor Speedway today! 🏁 \nFOR A LIMITED TIME ALL DRIVING PACKAGES ARE 50% OFF!\nBOOK NOW
URL:https://jeffreyearnhardtracingexperience.com/event/tri-county-speedway-nc/
LOCATION:Tri-County Speedway\, 4405 Hickory Nut Ridge Rd\, Granite Falls\, NC\, 28630\, United States
CATEGORIES:July 2026,North Carolina
ATTACH;FMTTYPE=image/png:https://jeffreyearnhardtracingexperience.com/wp-content/uploads/2026/01/Tri-County-Speedway-logo.png
ORGANIZER;CN="Jeffrey Earnhardt Racing Experience":MAILTO:support@jeffreyearnhardtracingexperience.com
END:VEVENT
BEGIN:VEVENT
DTSTART;TZID=America/New_York:20260808T100000
DTEND;TZID=America/New_York:20260808T180000
DTSTAMP:20260420T094426
CREATED:20251120T200002Z
LAST-MODIFIED:20251121T153948Z
UID:10000092-1786183200-1786212000@jeffreyearnhardtracingexperience.com
SUMMARY:Carteret County Speedway
DESCRIPTION:Jeffrey Earnhardt Racing Experience at Carteret County Speedway \nGet ready to feel pure short-track excitement at one of the most scenic racing venues on the East Coast—the Jeffrey Earnhardt Racing Experience at Carteret County Speedway! This fast\, smooth 4/10-mile oval delivers the perfect blend of speed and technical challenge\, making it an ideal place for drivers of every skill level to experience real stock-car driving. \nYour experience begins with a detailed driver orientation led by our professional instructors. They’ll walk you through safety procedures\, racing lines\, and driving techniques designed to help you get the most out of your time behind the wheel. No prior racing experience is required—just bring your adrenaline and excitement! \nOnce you’re suited up and strapped into one of our real NASCAR-style stock cars\, you’ll roll onto the track and unleash the power. Feel the acceleration as you charge down the straightaways and master Carteret County’s smooth\, sweeping turns. With no speed limits and no pace car\, you’re in control of the thrill from start to finish. \nPrefer to experience the speed without driving? Our Ride-Along Experience lets you strap in as a pro driver shows you what real race-pace feels like. \nHighlights:\n🏁 Drive a Real Stock Car on Carteret County’s pristine 4/10-mile oval🌊 Coastal Racing Experience at one of North Carolina’s most unique tracks👨‍🏫 Professional Instruction included—perfect for beginners and seasoned fans💨 No Pace Car & No Speed Limits—your laps\, your speed🎁 An unforgettable gift or bucket-list adventure \nTake the wheel\, feel the horsepower\, and live the rush.Book your Jeffrey Earnhardt Racing Experience at Carteret County Speedway today! 🏁 \nFOR A LIMITED TIME ALL DRIVING PACKAGES ARE 50% OFF!\nBOOK NOW
URL:https://jeffreyearnhardtracingexperience.com/event/carteret-county-speedway-8-8-26/
LOCATION:Carteret County Speedway\, 501 Whitehouse Fork Rd\, Swansboro\, 28584\, United States
CATEGORIES:August 2026,North Carolina
ATTACH;FMTTYPE=image/png:https://jeffreyearnhardtracingexperience.com/wp-content/uploads/2025/11/Carteret-Speedway-logo.png
END:VEVENT
BEGIN:VEVENT
DTSTART;TZID=America/New_York:20261114T090000
DTEND;TZID=America/New_York:20261114T160000
DTSTAMP:20260420T094426
CREATED:20260403T195523Z
LAST-MODIFIED:20260403T195523Z
UID:10000116-1794646800-1794672000@jeffreyearnhardtracingexperience.com
SUMMARY:Rockingham Speedway
DESCRIPTION:Jeffrey Earnhardt Racing Experience at Rockingham Speedway (North Carolina) \nStep onto one of NASCAR’s most legendary tracks and experience real speed at Rockingham Speedway with the Jeffrey Earnhardt Racing Experience! Known as “The Rock\,” this historic 1-mile oval is famous for its unique surface\, high tire wear\, and raw\, challenging racing conditions—making it the perfect place to live out your racing dreams. \nYour day begins with a detailed driver orientation led by professional instructors who will walk you through racing lines\, throttle control\, braking points\, and how to handle Rockingham’s fast\, demanding layout. Whether you’re a first-timer or a seasoned racing fan\, you’ll be fully prepared to take on this iconic track. \nThen it’s time to suit up and choose your machine. You’ll have the opportunity to drive an open-wheel Modified\, a powerful Cup Car\, or a modern GEN6 racecar—each delivering a completely different\, high-adrenaline driving experience. From the moment you fire up the engine and roll onto the track\, you’ll feel the history and intensity that makes Rockingham so special. \nWith no pace car and no speed limits\, you’re in full control as you power down the straightaways and battle the track’s unique grip and tire wear—just like the pros. \nPrefer to ride instead? Our Ride-Along Experience puts you in the passenger seat for a full-speed lap with a professional driver. \nHighlights:\n🏁 Drive real racecars – Choose from Modified\, Cup Car\, or GEN6 racecar🔥 Race at “The Rock” – One of the most legendary tracks in NASCAR history👨‍🏫 Professional instruction – No experience required💨 No pace car – Pure racing freedom⚡ Unique racing surface that challenges drivers and rewards skill🎁 Perfect for bucket-list experiences\, gifts\, or group events \nThis isn’t just driving—it’s real racing on one of the toughest tracks in America.Book your Jeffrey Earnhardt Racing Experience at Rockingham Speedway today and see if you can handle “The Rock.” 🏁 \nFOR A LIMITED TIME ALL DRIVING PACKAGES ARE 40% OFF!\nBOOK NOW
URL:https://jeffreyearnhardtracingexperience.com/event/rockingham-speedway/
LOCATION:Rockingham Speedway\, 2152 N US Hwy 1\, Rockingham\, NC\, 28379\, United States
CATEGORIES:North Carolina,November 2026
ATTACH;FMTTYPE=image/png:https://jeffreyearnhardtracingexperience.com/wp-content/uploads/2026/04/rockingham-speedway-logo.png
ORGANIZER;CN="Jeffrey Earnhardt Racing Experience":MAILTO:support@jeffreyearnhardtracingexperience.com
END:VEVENT
END:VCALENDAR