BEGIN:VCALENDAR
VERSION:2.0
PRODID:-//Jeffrey Earnhardt Racing Experience - ECPv6.15.20//NONSGML v1.0//EN
CALSCALE:GREGORIAN
METHOD:PUBLISH
X-WR-CALNAME:Jeffrey Earnhardt Racing Experience
X-ORIGINAL-URL:https://jeffreyearnhardtracingexperience.com
X-WR-CALDESC:Events for Jeffrey Earnhardt Racing Experience
REFRESH-INTERVAL;VALUE=DURATION:PT1H
X-Robots-Tag:noindex
X-PUBLISHED-TTL:PT1H
BEGIN:VTIMEZONE
TZID:America/New_York
BEGIN:DAYLIGHT
TZOFFSETFROM:-0500
TZOFFSETTO:-0400
TZNAME:EDT
DTSTART:20240310T070000
END:DAYLIGHT
BEGIN:STANDARD
TZOFFSETFROM:-0400
TZOFFSETTO:-0500
TZNAME:EST
DTSTART:20241103T060000
END:STANDARD
BEGIN:DAYLIGHT
TZOFFSETFROM:-0500
TZOFFSETTO:-0400
TZNAME:EDT
DTSTART:20250309T070000
END:DAYLIGHT
BEGIN:STANDARD
TZOFFSETFROM:-0400
TZOFFSETTO:-0500
TZNAME:EST
DTSTART:20251102T060000
END:STANDARD
BEGIN:DAYLIGHT
TZOFFSETFROM:-0500
TZOFFSETTO:-0400
TZNAME:EDT
DTSTART:20260308T070000
END:DAYLIGHT
BEGIN:STANDARD
TZOFFSETFROM:-0400
TZOFFSETTO:-0500
TZNAME:EST
DTSTART:20261101T060000
END:STANDARD
END:VTIMEZONE
BEGIN:VEVENT
DTSTART;TZID=America/New_York:20251109T100000
DTEND;TZID=America/New_York:20251109T130000
DTSTAMP:20260421T183938
CREATED:20250108T180152Z
LAST-MODIFIED:20251030T170122Z
UID:10000001-1762682400-1762693200@jeffreyearnhardtracingexperience.com
SUMMARY:Citrus County Speedway
DESCRIPTION:Feel the thrill of stock car racing firsthand at the Jeffrey Earnhardt Racing Experience\, located at the legendary Citrus County Speedway in Inverness\, Florida. This immersive experience puts you in the driver’s seat of a Late Model\, Super Late Model or Open Wheel racecar\, offering you a taste of what it’s like to compete on a real short track. \nBegin your day with a comprehensive driver orientation led by professional instructors. You’ll receive expert guidance on vehicle handling\, track dynamics\, safety protocols\, and tips for navigating the 3/8-mile oval. Whether you’re a first-timer or a seasoned racing fan\, the training ensures you’re ready to tackle the track like a pro. \nOnce suited up in authentic racing gear\, it’s time to hit the asphalt. Climb into a powerful stock car and experience the rush of driving at high speeds\, feeling every twist and turn of the track beneath you. Choose from various driving packages\, whether you’re looking for a few high-adrenaline laps or a full racing session that pushes your skills to the limit. \nFor those who prefer to soak up the action from the passenger seat\, ride-along options are available with a professional driver taking the wheel\, allowing you to feel the speed and precision of competitive racing without having to drive. \nThe Jeffrey Earnhardt Racing Experience is perfect for thrill-seekers\, racing enthusiasts\, or anyone looking for a once-in-a-lifetime adventure. With an emphasis on safety\, authenticity\, and fun\, this is your chance to channel your inner NASCAR star and create unforgettable memories on the track. \nKey Highlights:\n\nDrive a real racecar on a professional short track.\nGuided training and support from experienced instructors.\nMultiple driving and ride-along packages available.\nSuitable for all skill levels—no prior experience necessary.\nLocated at Citrus County Speedway\, known for its rich racing history.\n\nBook your spot today and make your racing dreams a reality! \nFOR A LIMITED TIME ALL DRIVING PACKAGES ARE 50% OFF!\nBOOK NOW
URL:https://jeffreyearnhardtracingexperience.com/event/citrus-county-speedway/
LOCATION:Citrus County Speedway\, 3600 S Florida Ave\, Inverness\, Florida\, 34450\, United States
CATEGORIES:Florida,November 2025
ATTACH;FMTTYPE=image/jpeg:https://jeffreyearnhardtracingexperience.com/wp-content/uploads/2024/12/Citrus-County-Speedway-1.jpg
ORGANIZER;CN="Jeffrey Earnhardt Racing Experience":MAILTO:support@jeffreyearnhardtracingexperience.com
END:VEVENT
END:VCALENDAR