BEGIN:VCALENDAR
VERSION:2.0
PRODID:-//Jeffrey Earnhardt Racing Experience - ECPv6.15.20//NONSGML v1.0//EN
CALSCALE:GREGORIAN
METHOD:PUBLISH
X-WR-CALNAME:Jeffrey Earnhardt Racing Experience
X-ORIGINAL-URL:https://jeffreyearnhardtracingexperience.com
X-WR-CALDESC:Events for Jeffrey Earnhardt Racing Experience
REFRESH-INTERVAL;VALUE=DURATION:PT1H
X-Robots-Tag:noindex
X-PUBLISHED-TTL:PT1H
BEGIN:VTIMEZONE
TZID:America/New_York
BEGIN:DAYLIGHT
TZOFFSETFROM:-0500
TZOFFSETTO:-0400
TZNAME:EDT
DTSTART:20240310T070000
END:DAYLIGHT
BEGIN:STANDARD
TZOFFSETFROM:-0400
TZOFFSETTO:-0500
TZNAME:EST
DTSTART:20241103T060000
END:STANDARD
BEGIN:DAYLIGHT
TZOFFSETFROM:-0500
TZOFFSETTO:-0400
TZNAME:EDT
DTSTART:20250309T070000
END:DAYLIGHT
BEGIN:STANDARD
TZOFFSETFROM:-0400
TZOFFSETTO:-0500
TZNAME:EST
DTSTART:20251102T060000
END:STANDARD
BEGIN:DAYLIGHT
TZOFFSETFROM:-0500
TZOFFSETTO:-0400
TZNAME:EDT
DTSTART:20260308T070000
END:DAYLIGHT
BEGIN:STANDARD
TZOFFSETFROM:-0400
TZOFFSETTO:-0500
TZNAME:EST
DTSTART:20261101T060000
END:STANDARD
END:VTIMEZONE
BEGIN:VEVENT
DTSTART;TZID=America/New_York:20251019T090000
DTEND;TZID=America/New_York:20251019T170000
DTSTAMP:20260421T200851
CREATED:20250527T132359Z
LAST-MODIFIED:20251016T155944Z
UID:10000050-1760864400-1760893200@jeffreyearnhardtracingexperience.com
SUMMARY:Montgomery Motor Speedway
DESCRIPTION:Jeffrey Earnhardt Racing Experience at Montgomery Motor Speedway \nRev your engines and get ready for the ultimate adrenaline rush at Montgomery Motor Speedway with the Jeffrey Earnhardt Racing Experience! This is your chance to take the wheel of a real late model\, super late model or open wheel modified racecar and race on one of Alabama’s oldest and most storied short tracks. \nThe adventure begins with a comprehensive orientation session led by experienced instructors. They’ll walk you through everything from car controls to track safety\, ensuring you feel confident and prepared to hit the pavement. No prior racing experience is needed—just bring your enthusiasm and excitement! \nOnce you’re suited up in authentic racing gear\, it’s time to strap in\, fire up the engine\, and take on the half-mile asphalt oval. Feel the thrill as you navigate the tight turns and straightaways of Montgomery Motor Speedway\, a track that has challenged drivers for decades. \nNot ready to drive? Choose a ride-along experience and let a professional driver take you for the ride of your life\, showcasing the speed and precision these powerful machines can achieve. \nWhether you’re chasing a lifelong dream\, planning a group outing\, or looking for an unforgettable gift\, the Jeffrey Earnhardt Racing Experience at Montgomery Motor Speedway is the perfect way to make lasting memories. \nHighlights:\n\nDrive a Racecar on the historic Montgomery Motor Speedway.\nProfessional Training provided to ensure a safe and exciting experience.\nRide-Along Packages available for non-drivers seeking high-speed thrills.\nNo Experience Needed – Great for beginners and racing fans alike.\nCustomizable Upgrades to enhance your experience.\n\nTake the first step toward your racing dream and book your spot today. The track is calling—are you ready to answer? 🏁 \nFOR A LIMITED TIME ALL DRIVING PACKAGES ARE 50% OFF!\nBOOK NOW
URL:https://jeffreyearnhardtracingexperience.com/event/montgomery-motor-speedway-10-19-25/
LOCATION:Montgomery Motor Speedway\, 480 Booth Rd\,\, Montgomery\, AL\, 36108\, United States
CATEGORIES:Alabama,October 2025
ATTACH;FMTTYPE=image/jpeg:https://jeffreyearnhardtracingexperience.com/wp-content/uploads/2024/11/Montgomery_Motor_Speedway.jpg
END:VEVENT
END:VCALENDAR