BEGIN:VCALENDAR
VERSION:2.0
PRODID:-//Jeffrey Earnhardt Racing Experience - ECPv6.15.20//NONSGML v1.0//EN
CALSCALE:GREGORIAN
METHOD:PUBLISH
X-ORIGINAL-URL:https://jeffreyearnhardtracingexperience.com
X-WR-CALDESC:Events for Jeffrey Earnhardt Racing Experience
REFRESH-INTERVAL;VALUE=DURATION:PT1H
X-Robots-Tag:noindex
X-PUBLISHED-TTL:PT1H
BEGIN:VTIMEZONE
TZID:America/New_York
BEGIN:DAYLIGHT
TZOFFSETFROM:-0500
TZOFFSETTO:-0400
TZNAME:EDT
DTSTART:20240310T070000
END:DAYLIGHT
BEGIN:STANDARD
TZOFFSETFROM:-0400
TZOFFSETTO:-0500
TZNAME:EST
DTSTART:20241103T060000
END:STANDARD
BEGIN:DAYLIGHT
TZOFFSETFROM:-0500
TZOFFSETTO:-0400
TZNAME:EDT
DTSTART:20250309T070000
END:DAYLIGHT
BEGIN:STANDARD
TZOFFSETFROM:-0400
TZOFFSETTO:-0500
TZNAME:EST
DTSTART:20251102T060000
END:STANDARD
BEGIN:DAYLIGHT
TZOFFSETFROM:-0500
TZOFFSETTO:-0400
TZNAME:EDT
DTSTART:20260308T070000
END:DAYLIGHT
BEGIN:STANDARD
TZOFFSETFROM:-0400
TZOFFSETTO:-0500
TZNAME:EST
DTSTART:20261101T060000
END:STANDARD
END:VTIMEZONE
BEGIN:VEVENT
DTSTART;TZID=America/New_York:20250921T090000
DTEND;TZID=America/New_York:20250921T140000
DTSTAMP:20260422T010010
CREATED:20250905T162132Z
LAST-MODIFIED:20250905T162247Z
UID:10000059-1758445200-1758463200@jeffreyearnhardtracingexperience.com
SUMMARY:Riverhead Raceway
DESCRIPTION:Jeffrey Earnhardt Racing Experience at Riverhead Raceway \nStep into the driver’s seat and experience the thrill of short-track racing at Riverhead Raceway with the Jeffrey Earnhardt Racing Experience! Located in Riverhead\, New York\, this legendary 1/4-mile asphalt oval has been thrilling fans for decades and now it’s your turn to feel the adrenaline of real stock car racing. \nYour day begins with a comprehensive orientation led by our experienced instructors. They’ll cover safety procedures\, car handling techniques\, and tips for mastering Riverhead’s tight turns and short straightaways. No experience is necessary—our team ensures you’re fully prepared for this exciting adventure. \nOnce suited up in professional racing gear\, you’ll take the wheel of a late mode\, super late model or open wheel modified racecar. Feel the rush of accelerating through the straights and navigating the challenging corners of one of the most iconic short tracks in the Northeast. Each lap is a heart-pounding experience that puts you in the shoes of a real racecar driver. \nNot quite ready to drive? Our ride-along packages let you experience the excitement from the passenger seat\, as a professional driver takes you on a high-speed lap around the track. \nWhether you’re looking for an individual thrill\, a unique group outing\, or a memorable way to celebrate a special occasion\, the Jeffrey Earnhardt Racing Experience at Riverhead Raceway delivers an unforgettable day of speed and excitement. \nHighlights:\n\nDrive a Racecar on the historic Riverhead Raceway.\nProfessional Instruction to ensure safety and confidence on the track.\nRide-Along Packages for those who want the thrill without driving.\nNo Experience Required – Perfect for everyone\, from beginners to racing fans.\nUpgrades Available to customize and enhance your racing adventure.\n\nDon’t miss your chance to race at one of New York’s most iconic short tracks. Book your spot today and join us at Riverhead Raceway for the Jeffrey Earnhardt Racing Experience! 🏁 \nFOR A LIMITED TIME ALL DRIVING PACKAGES ARE 50% OFF!\nBOOK NOW
URL:https://jeffreyearnhardtracingexperience.com/event/riverhead-raceway-9-21-25/
LOCATION:Riverhead Raceway\, 1797 Old Country Rd\, New York\, NY\, 11901\, United States
CATEGORIES:New York,September 2025
ATTACH;FMTTYPE=image/jpeg:https://jeffreyearnhardtracingexperience.com/wp-content/uploads/2024/12/riverhead-raceway-1.jpg
ORGANIZER;CN="Jeffrey Earnhardt Racing Experience":MAILTO:support@jeffreyearnhardtracingexperience.com
END:VEVENT
BEGIN:VEVENT
DTSTART;TZID=America/New_York:20250921T120000
DTEND;TZID=America/New_York:20250921T170000
DTSTAMP:20260422T010010
CREATED:20250113T191614Z
LAST-MODIFIED:20250113T192148Z
UID:10000028-1758456000-1758474000@jeffreyearnhardtracingexperience.com
SUMMARY:Lake Erie Speedway
DESCRIPTION:Jeffrey Earnhardt Racing Experience at Lake Erie Speedway \nGet ready for the ultimate racing adventure at Lake Erie Speedway with the Jeffrey Earnhardt Racing Experience! Located in North East\, Pennsylvania\, this 3/8-mile semi-banked asphalt oval is the perfect venue to experience the thrill of short-track racing firsthand. \nYour day kicks off with a detailed orientation led by professional instructors. They’ll cover safety protocols\, driving techniques\, and tips for tackling the unique layout of Lake Erie Speedway\, ensuring you’re prepared for an exciting day on the track. Whether you’re a first-timer or a seasoned motorsports enthusiast\, our team is here to guide you every step of the way. \nOnce you’re suited up in authentic racing gear\, it’s time to take the wheel of a late model\, super late model or open wheel modified racecar. Feel the power beneath you as you accelerate down the straightaways and maneuver through the track’s smooth\, fast corners. Every lap is packed with heart-pounding excitement and the satisfaction of mastering this renowned short track. \nPrefer to ride along instead? Our ride-along packages let you experience the speed and intensity of racing from the passenger seat\, as a professional driver takes you for an unforgettable high-speed lap around the track. \nWhether you’re looking for an individual experience\, a group outing\, or a unique way to celebrate a special occasion\, the Jeffrey Earnhardt Racing Experience at Lake Erie Speedway delivers an action-packed day you’ll never forget. \nHighlights:\n\nDrive a Racecar on the dynamic Lake Erie Speedway.\nProfessional Training to ensure safety and confidence on the track.\nRide-Along Packages for non-drivers who want to feel the thrill.\nNo Experience Necessary – Designed for everyone\, from beginners to racing fans.\nUpgrades Available to customize and enhance your racing experience.\n\nTake the wheel and make your racing dreams come true! Book your spot today and join us at Lake Erie Speedway for an unforgettable day with the Jeffrey Earnhardt Racing Experience. 🏁 \nFOR A LIMITED TIME ALL DRIVING PACKAGES ARE 50% OFF!\nBOOK NOW
URL:https://jeffreyearnhardtracingexperience.com/event/lake-erie-speedway/
LOCATION:Lake Erie Speedway\, 10700 Delmas Dr\, North East\, PA\, 16428\, United States
CATEGORIES:Pennsylvania,September 2025
ATTACH;FMTTYPE=image/jpeg:https://jeffreyearnhardtracingexperience.com/wp-content/uploads/2024/12/lake-erie-speedway-logo.jpg
ORGANIZER;CN="Jeffrey Earnhardt Racing Experience":MAILTO:support@jeffreyearnhardtracingexperience.com
END:VEVENT
END:VCALENDAR