BEGIN:VCALENDAR
VERSION:2.0
PRODID:-//Jeffrey Earnhardt Racing Experience - ECPv6.15.20//NONSGML v1.0//EN
CALSCALE:GREGORIAN
METHOD:PUBLISH
X-WR-CALNAME:Jeffrey Earnhardt Racing Experience
X-ORIGINAL-URL:https://jeffreyearnhardtracingexperience.com
X-WR-CALDESC:Events for Jeffrey Earnhardt Racing Experience
REFRESH-INTERVAL;VALUE=DURATION:PT1H
X-Robots-Tag:noindex
X-PUBLISHED-TTL:PT1H
BEGIN:VTIMEZONE
TZID:America/New_York
BEGIN:DAYLIGHT
TZOFFSETFROM:-0500
TZOFFSETTO:-0400
TZNAME:EDT
DTSTART:20240310T070000
END:DAYLIGHT
BEGIN:STANDARD
TZOFFSETFROM:-0400
TZOFFSETTO:-0500
TZNAME:EST
DTSTART:20241103T060000
END:STANDARD
BEGIN:DAYLIGHT
TZOFFSETFROM:-0500
TZOFFSETTO:-0400
TZNAME:EDT
DTSTART:20250309T070000
END:DAYLIGHT
BEGIN:STANDARD
TZOFFSETFROM:-0400
TZOFFSETTO:-0500
TZNAME:EST
DTSTART:20251102T060000
END:STANDARD
BEGIN:DAYLIGHT
TZOFFSETFROM:-0500
TZOFFSETTO:-0400
TZNAME:EDT
DTSTART:20260308T070000
END:DAYLIGHT
BEGIN:STANDARD
TZOFFSETFROM:-0400
TZOFFSETTO:-0500
TZNAME:EST
DTSTART:20261101T060000
END:STANDARD
END:VTIMEZONE
BEGIN:VEVENT
DTSTART;TZID=America/New_York:20250726T090000
DTEND;TZID=America/New_York:20250726T170000
DTSTAMP:20260422T022649
CREATED:20250111T051758Z
LAST-MODIFIED:20250111T051758Z
UID:10000023-1753520400-1753549200@jeffreyearnhardtracingexperience.com
SUMMARY:Oswego Speedway
DESCRIPTION:Jeffrey Earnhardt Racing Experience at Oswego Speedway \nExperience the thrill of driving a real stock car at the legendary Oswego Speedway with the Jeffrey Earnhardt Racing Experience! Located in Oswego\, New York\, this 5/8-mile paved oval\, known as the “Steel Palace\,” is steeped in motorsports history and offers the perfect venue to channel your inner racecar driver. \nYour adventure begins with a comprehensive orientation led by our professional instructors. They’ll guide you through everything you need to know—safety protocols\, car handling\, and tips for navigating Oswego’s wide turns and fast straightaways. Whether you’re a rookie or a lifelong racing fan\, you’ll feel confident and ready to hit the track. \nOnce suited up in professional racing gear\, it’s time to get behind the wheel of a late model\, super late model or open wheel modified racecar. Hear the roar of the engine\, feel the grip of the tires\, and experience the rush of racing on the same track that has hosted countless motorsports legends. \nNot ready to drive? No problem! Our ride-along packages let you experience the full power and speed of these machines from the passenger seat\, with a professional driver delivering the ultimate thrill. \nPerfect for individuals\, groups\, or special events\, the Jeffrey Earnhardt Racing Experience at Oswego Speedway provides a day of high-speed excitement you’ll never forget. \nHighlights:\n\nDrive a Racecar on the iconic Oswego Speedway oval.\nProfessional Instruction ensures a safe and thrilling experience.\nRide-Along Packages available for non-drivers who want to feel the speed.\nNo Experience Necessary – Designed for beginners and racing enthusiasts alike.\nCustom Upgrades to tailor your racing adventure.\n\nDon’t just dream about racing—live it! Reserve your spot today and experience the excitement of Oswego Speedway with the Jeffrey Earnhardt Racing Experience! 🏁 \nFOR A LIMITED TIME ALL DRIVING PACKAGES ARE 50% OFF!\nBOOK NOW
URL:https://jeffreyearnhardtracingexperience.com/event/oswego-speedway/
LOCATION:Oswego Speedway\, 300 E Albany St\, Oswego\, NY\, 13126\, United States
CATEGORIES:July 2025,New York
ATTACH;FMTTYPE=image/jpeg:https://jeffreyearnhardtracingexperience.com/wp-content/uploads/2024/12/Oswego_142.jpg
ORGANIZER;CN="Jeffrey Earnhardt Racing Experience":MAILTO:support@jeffreyearnhardtracingexperience.com
END:VEVENT
END:VCALENDAR