BEGIN:VCALENDAR
VERSION:2.0
PRODID:-//Jeffrey Earnhardt Racing Experience - ECPv6.15.20//NONSGML v1.0//EN
CALSCALE:GREGORIAN
METHOD:PUBLISH
X-ORIGINAL-URL:https://jeffreyearnhardtracingexperience.com
X-WR-CALDESC:Events for Jeffrey Earnhardt Racing Experience
REFRESH-INTERVAL;VALUE=DURATION:PT1H
X-Robots-Tag:noindex
X-PUBLISHED-TTL:PT1H
BEGIN:VTIMEZONE
TZID:America/New_York
BEGIN:DAYLIGHT
TZOFFSETFROM:-0500
TZOFFSETTO:-0400
TZNAME:EDT
DTSTART:20250309T070000
END:DAYLIGHT
BEGIN:STANDARD
TZOFFSETFROM:-0400
TZOFFSETTO:-0500
TZNAME:EST
DTSTART:20251102T060000
END:STANDARD
BEGIN:DAYLIGHT
TZOFFSETFROM:-0500
TZOFFSETTO:-0400
TZNAME:EDT
DTSTART:20260308T070000
END:DAYLIGHT
BEGIN:STANDARD
TZOFFSETFROM:-0400
TZOFFSETTO:-0500
TZNAME:EST
DTSTART:20261101T060000
END:STANDARD
BEGIN:DAYLIGHT
TZOFFSETFROM:-0500
TZOFFSETTO:-0400
TZNAME:EDT
DTSTART:20270314T070000
END:DAYLIGHT
BEGIN:STANDARD
TZOFFSETFROM:-0400
TZOFFSETTO:-0500
TZNAME:EST
DTSTART:20271107T060000
END:STANDARD
END:VTIMEZONE
BEGIN:VEVENT
DTSTART;TZID=America/New_York:20260503T100000
DTEND;TZID=America/New_York:20260503T150000
DTSTAMP:20260421T134247
CREATED:20251203T175124Z
LAST-MODIFIED:20251203T175735Z
UID:10000106-1777802400-1777820400@jeffreyearnhardtracingexperience.com
SUMMARY:Kalamazoo Speedway
DESCRIPTION:Jeffrey Earnhardt Racing Experience at Kalamazoo Speedway \nGet ready to feel true short-track speed at one of the fastest 3/8-mile ovals in the country—the Jeffrey Earnhardt Racing Experience at Kalamazoo Speedway! Famous for its high speeds\, tight racing\, and electric atmosphere\, Kalamazoo is the perfect place to put real horsepower in your hands. \nYour day begins with a full driver orientation led by our professional instructors. You’ll learn the racing line\, braking points\, throttle techniques\, and everything you need to know to conquer Kalamazoo’s smooth\, high-grip surface. No previous racing experience? No problem—we’re here to guide you every step of the way. \nThen comes the moment you’ve been waiting for: sliding into the seat of one of our authentic stock cars. When you fire up the engine and roll onto the track\, you’ll instantly understand why Kalamazoo Speedway is legendary. With its wide turns and fast straightaways\, this track gives you the unique chance to build real speed while mastering the rhythm of short-track racing. \nAnd unlike a typical ride\, you’re in full control—no pace car\, no speed limits\, just pure racing adrenaline. \nWant an intense thrill without driving? Our Ride-Along Experience puts you shotgun for top-speed laps with a professional driver at the wheel. \nHighlights:\n🏁 Drive a real stock car on one of America’s fastest short tracks⚡ High-speed 3/8-mile oval perfect for thrilling\, smooth\, fast laps👨‍🏫 Pro driver orientation and coaching included💨 No pace car—you set the speed and the intensity🔥 Ride-Along options for maximum excitement🎁 Amazing gift idea for racing fans or adrenaline seekers \nKalamazoo is fast. It’s smooth. It’s pure excitement.Experience it for yourself—book the Jeffrey Earnhardt Racing Experience at Kalamazoo Speedway today! 🏁 \nFOR A LIMITED TIME ALL DRIVING PACKAGES ARE 50% OFF!\nBOOK NOW
URL:https://jeffreyearnhardtracingexperience.com/event/kalamazoo-speedway-5-3-26/
LOCATION:Kalamazoo Speedway\, 7656 Ravine Rd\, Kalamazoo\, MI\, 49009\, United States
CATEGORIES:May 2026,Michigan
ATTACH;FMTTYPE=image/jpeg:https://jeffreyearnhardtracingexperience.com/wp-content/uploads/2025/12/kalamazoo-speedway-logo.jpg
ORGANIZER;CN="Jeffrey Earnhardt Racing Experience":MAILTO:support@jeffreyearnhardtracingexperience.com
END:VEVENT
BEGIN:VEVENT
DTSTART;TZID=America/New_York:20260509T090000
DTEND;TZID=America/New_York:20260509T160000
DTSTAMP:20260421T134247
CREATED:20251029T153715Z
LAST-MODIFIED:20251029T153856Z
UID:10000070-1778317200-1778342400@jeffreyearnhardtracingexperience.com
SUMMARY:Stafford Speedway
DESCRIPTION:Jeffrey Earnhardt Racing Experience at Stafford Speedway \nGet ready for the thrill of a lifetime with the Jeffrey Earnhardt Racing Experience at Stafford Speedway! Located in Stafford Springs\, Connecticut\, this iconic half-mile paved oval\, known for its rich racing history\, offers the perfect setting for an unforgettable stock car adventure. \nYour experience kicks off with a professional orientation session led by experienced instructors. You’ll learn everything you need to know about driving a racecar\, from safety procedures and car controls to tips on navigating the track’s unique layout. Whether you’re new to racing or a lifelong fan\, our team ensures you’re ready to take on the challenge. \nOnce suited up in authentic racing gear\, it’s time to take the wheel. Feel the power as you fire up the engine and take on the straightaways and corners of Stafford Speedway\, mastering the same track where racing legends have competed. Every lap is a rush of adrenaline and excitement! \nFor those who prefer to sit back and enjoy the ride\, our ride-along packages provide an exhilarating passenger-seat experience as a professional driver showcases the full potential of a NASCAR-style racecar. \nWhether it’s a solo adventure\, a group outing\, or a bucket-list event\, the Jeffrey Earnhardt Racing Experience at Stafford Speedway guarantees a day you’ll never forget. \nHighlights:\n\nDrive a Racecar on the legendary Stafford Speedway.\nProfessional Training provided for a safe and thrilling experience.\nRide-Along Packages for non-drivers seeking the ultimate trackside thrill.\nNo Experience Needed – Perfect for beginners and seasoned racing enthusiasts alike.\nCustom Upgrades available to enhance your time on the track.\n\nDon’t miss your chance to experience the speed\, power\, and excitement of Stafford Speedway. Book your spot today and make your racing dreams a reality with the Jeffrey Earnhardt Racing Experience! 🏁 \nFOR A LIMITED TIME ALL DRIVING PACKAGES ARE 50% OFF!\nBOOK NOW
URL:https://jeffreyearnhardtracingexperience.com/event/stafford-speedway-5-9-26/
LOCATION:Stafford Speedway\, 55 West St\, Stafford Springs\, CT\, 06076\, United States
CATEGORIES:Connecticut,May 2026
ATTACH;FMTTYPE=image/jpeg:https://jeffreyearnhardtracingexperience.com/wp-content/uploads/2024/12/StaffordMotor-Speedway-logo.jpg
ORGANIZER;CN="Jeffrey Earnhardt Racing Experience":MAILTO:support@jeffreyearnhardtracingexperience.com
END:VEVENT
BEGIN:VEVENT
DTSTART;TZID=America/New_York:20260516T100000
DTEND;TZID=America/New_York:20260516T160000
DTSTAMP:20260421T134247
CREATED:20251029T154019Z
LAST-MODIFIED:20251029T154349Z
UID:10000071-1778925600-1778947200@jeffreyearnhardtracingexperience.com
SUMMARY:Holland Speedway
DESCRIPTION:Jeffrey Earnhardt Racing Experience at Holland Speedway \nStep into the driver’s seat and experience the adrenaline of stock car racing at Holland Speedway with the Jeffrey Earnhardt Racing Experience! Nestled in the scenic countryside of Holland\, New York\, this 3/8-mile asphalt oval is the perfect place to make your racing dreams come true. \nYour day begins with a professional orientation led by our experienced instructors. They’ll walk you through everything you need to know—from safety procedures and track navigation to car controls—ensuring you’re ready for an unforgettable adventure. No prior experience is needed; just bring your enthusiasm and get ready to race! \nOnce geared up in professional racing attire\, you’ll take the wheel of a late model\, super late model or open wheel modified racecar. Feel the power of the engine as you accelerate down the straightaways and tackle the banked turns of Holland Speedway. Every lap delivers the heart-pounding thrill of real stock car racing! \nNot quite ready to drive? Choose one of our ride-along packages and experience the speed and excitement from the passenger seat as a professional driver takes you on a high-speed tour of the track. \nPerfect for individuals\, groups\, or special occasions\, the Jeffrey Earnhardt Racing Experience at Holland Speedway offers an action-packed day you’ll never forget. \nHighlights:\n\nDrive a Racecar on the exciting Holland Speedway oval.\nProfessional Training ensures a safe and thrilling experience for all participants.\nRide-Along Packages available for non-drivers who want to feel the rush of the track.\nNo Experience Necessary – Designed for everyone\, from first-timers to racing enthusiasts.\nUpgrades Available to customize your time on the track.\n\nDon’t miss this chance to feel the thrill of the race! Book your spot today and join us at Holland Speedway for the Jeffrey Earnhardt Racing Experience. 🏁 \nFOR A LIMITED TIME ALL DRIVING PACKAGES ARE 50% OFF!\nBOOK NOW
URL:https://jeffreyearnhardtracingexperience.com/event/holland-speedway-5-16-26/
LOCATION:Holland Speedway\, 11586 Glenwood Rd\, Holland\, NY\, 14080\, United States
CATEGORIES:May 2026,New York
ATTACH;FMTTYPE=image/jpeg:https://jeffreyearnhardtracingexperience.com/wp-content/uploads/2024/12/Holland-Speedway.jpg
ORGANIZER;CN="Jeffrey Earnhardt Racing Experience":MAILTO:support@jeffreyearnhardtracingexperience.com
END:VEVENT
BEGIN:VEVENT
DTSTART;TZID=America/New_York:20260517T090000
DTEND;TZID=America/New_York:20260517T170000
DTSTAMP:20260421T134247
CREATED:20251029T154530Z
LAST-MODIFIED:20251029T154756Z
UID:10000072-1779008400-1779037200@jeffreyearnhardtracingexperience.com
SUMMARY:Jennerstown Speedway
DESCRIPTION:Jeffrey Earnhardt Racing Experience at Jennerstown Speedway \nFeel the thrill of real stock car racing at the iconic Jennerstown Speedway with the Jeffrey Earnhardt Racing Experience! Nestled in the scenic Laurel Highlands of Pennsylvania\, this fast and smooth 1/2-mile paved oval provides the perfect stage for an unforgettable day of high-speed excitement. \nYour racing adventure begins with a detailed orientation led by experienced instructors. They’ll guide you through safety protocols\, car handling techniques\, and tips for mastering Jennerstown’s well-maintained track. Whether you’re a first-timer or a seasoned racing enthusiast\, our team ensures you’re fully prepared to take on the challenge. \nOnce you’re suited up in professional racing gear\, it’s time to climb behind the wheel of a late model\, super late model or open wheel modified racecar. Experience the raw power as you accelerate down Jennerstown’s long straightaways and navigate its smooth\, sweeping turns. Each lap delivers an unmatched rush of adrenaline and excitement. \nNot ready to drive? Our ride-along packages allow you to experience the speed and precision of professional racing from the passenger seat as a skilled driver takes you on a high-speed journey around the track. \nPerfect for individuals\, group events\, or special occasions\, the Jeffrey Earnhardt Racing Experience at Jennerstown Speedway is your chance to live the dream of being a racecar driver. \nHighlights:\n\nDrive a Racecar on the historic Jennerstown Speedway.\nProfessional Training to ensure a safe and exhilarating experience.\nRide-Along Packages for non-drivers who want to feel the thrill of the track.\nNo Experience Necessary – Ideal for beginners and racing fans alike.\nCustomizable Upgrades to enhance your day on the track.\n\nDon’t miss this opportunity to race at one of Pennsylvania’s premier short tracks. Book your spot today and join us at Jennerstown Speedway for an unforgettable racing experience with the Jeffrey Earnhardt Racing Experience! 🏁 \nFOR A LIMITED TIME ALL DRIVING PACKAGES ARE 50% OFF!\nBOOK NOW
URL:https://jeffreyearnhardtracingexperience.com/event/jennerstown-speedway-5-17-26/
LOCATION:Jennerstown Speedway\, 206 Somerset St\,\, Jennerstown\, PA\, 15547\, United States
CATEGORIES:May 2026,Pennsylvania
ATTACH;FMTTYPE=image/jpeg:https://jeffreyearnhardtracingexperience.com/wp-content/uploads/2024/12/jennerstown.jpg
ORGANIZER;CN="Jeffrey Earnhardt Racing Experience":MAILTO:support@jeffreyearnhardtracingexperience.com
END:VEVENT
BEGIN:VEVENT
DTSTART;TZID=America/New_York:20260530T090000
DTEND;TZID=America/New_York:20260530T150000
DTSTAMP:20260421T134247
CREATED:20251103T195551Z
LAST-MODIFIED:20251103T195716Z
UID:10000079-1780131600-1780153200@jeffreyearnhardtracingexperience.com
SUMMARY:Wake County Speedway
DESCRIPTION:Jeffrey Earnhardt Racing Experience at Wake County Speedway \nFeel the thrill of stock car racing at its finest with the Jeffrey Earnhardt Racing Experience at Wake County Speedway! Known as “America’s Favorite Bullring\,” this high-banked quarter-mile asphalt oval in Raleigh\, North Carolina\, offers an unforgettable racing adventure for drivers of all skill levels. \nYour journey begins with a detailed orientation led by seasoned instructors who will guide you through the fundamentals of stock car driving\, from car controls to track dynamics and safety protocols. Whether you’re a first-time racer or a motorsport enthusiast\, our team ensures you’re ready to hit the track confidently. \nSuit up in professional racing gear\, climb behind the wheel of a late model\, super late model or open wheel modified racecar\, and experience the excitement as you navigate the tight turns and straightaways of this iconic short track. Every lap brings you closer to the authentic racing experience that has thrilled fans and drivers for decades. \nFor those not ready to drive\, our ride-along packages let you experience the speed and intensity of the track from the passenger seat\, guided by a professional driver who knows how to push the limits. \nThe Jeffrey Earnhardt Racing Experience at Wake County Speedway is perfect for individuals\, groups\, or anyone looking to cross “drive a racecar” off their bucket list. \nHighlights:\n\nDrive a Racecar on the high-banked oval of Wake County Speedway.\nProfessional Instruction to ensure a safe and exhilarating experience.\nRide-Along Packages available for non-drivers seeking a taste of the action.\nNo Experience Needed – Perfect for beginners and racing fans alike.\nUpgrades Available to take your experience to the next level.\n\nDon’t wait to make your racing dreams a reality! Book your spot today and experience the speed\, power\, and excitement of the Jeffrey Earnhardt Racing Experience at Wake County Speedway. 🏁 \nFOR A LIMITED TIME ALL DRIVING PACKAGES ARE 50% OFF!\nBOOK NOW
URL:https://jeffreyearnhardtracingexperience.com/event/wake-county-speedway-5-30-26/
LOCATION:Wake County Speedway\, 2109 Simpkins Rd\, Raleigh\, NC\, 27603\, United States
CATEGORIES:May 2026,North Carolina
ATTACH;FMTTYPE=image/jpeg:https://jeffreyearnhardtracingexperience.com/wp-content/uploads/2024/12/wake-county-speedway.jpg
END:VEVENT
BEGIN:VEVENT
DTSTART;TZID=America/New_York:20260531T110000
DTEND;TZID=America/New_York:20260531T160000
DTSTAMP:20260421T134247
CREATED:20251028T143740Z
LAST-MODIFIED:20251029T155526Z
UID:10000052-1780225200-1780243200@jeffreyearnhardtracingexperience.com
SUMMARY:Anderson Motor Speedway - South Carolina
DESCRIPTION:Jeffrey Earnhardt Racing Experience at Anderson Motor Speedway \nGet ready for an adrenaline-packed day on the track with the Jeffrey Earnhardt Racing Experience at Anderson Motor Speedway! Located in Williamston\, South Carolina\, this high-banked 3/8-mile oval is known for its fast-paced action and is the perfect venue to experience the thrill of stock car racing firsthand. \nYour experience starts with an in-depth orientation led by expert instructors. They’ll walk you through car controls\, safety protocols\, and racing techniques to ensure you’re prepared for an exciting and safe adventure. Whether you’re a first-time driver or a die-hard racing fan\, our team will help you feel confident as you take the wheel. \nOnce suited up in authentic racing gear\, you’ll climb into the driver’s seat of a late model\, super late model or open wheel modified racecar and feel the power as you fire up the engine. Take on the high-speed straightaways and banked turns of Anderson Motor Speedway\, experiencing the rush of driving a real racecar. \nNot quite ready to drive? Opt for a ride-along experience and feel the speed from the passenger seat as a professional driver navigates the track with precision and skill. \nPerfect for individuals\, groups\, or special occasions\, the Jeffrey Earnhardt Racing Experience at Anderson Motor Speedway offers a day of unforgettable fun\, speed\, and excitement. \nHighlights:\n\nDrive a Racecar on the fast and thrilling Anderson Motor Speedway.\nProfessional Instruction to guide and prepare you for a safe and exhilarating experience.\nRide-Along Packages available for non-drivers who want a taste of the action.\nNo Experience Required – Designed for beginners and racing enthusiasts alike.\nCustom Upgrades to enhance your time on the track.\n\nDon’t miss your chance to turn your racing dreams into reality. Book your spot today and hit the track at Anderson Motor Speedway with the Jeffrey Earnhardt Racing Experience! 🏁 \nFOR A LIMITED TIME ALL DRIVING PACKAGES ARE 50% OFF!\nBOOK NOW
URL:https://jeffreyearnhardtracingexperience.com/event/anderson-motor-speedway-sc-5-31-26/
LOCATION:Anderson Motor Speedway\, 313 Irby Rd\, Williamston\, SC\, 29697\, United States
CATEGORIES:May 2026,South Carolina
ATTACH;FMTTYPE=image/jpeg:https://jeffreyearnhardtracingexperience.com/wp-content/uploads/2024/11/Anderson-Motor-Speedway.jpg
ORGANIZER;CN="Jeffrey Earnhardt Racing Experience":MAILTO:support@jeffreyearnhardtracingexperience.com
END:VEVENT
END:VCALENDAR