BEGIN:VCALENDAR
VERSION:2.0
PRODID:-//Jeffrey Earnhardt Racing Experience - ECPv6.15.20//NONSGML v1.0//EN
CALSCALE:GREGORIAN
METHOD:PUBLISH
X-ORIGINAL-URL:https://jeffreyearnhardtracingexperience.com
X-WR-CALDESC:Events for Jeffrey Earnhardt Racing Experience
REFRESH-INTERVAL;VALUE=DURATION:PT1H
X-Robots-Tag:noindex
X-PUBLISHED-TTL:PT1H
BEGIN:VTIMEZONE
TZID:America/New_York
BEGIN:DAYLIGHT
TZOFFSETFROM:-0500
TZOFFSETTO:-0400
TZNAME:EDT
DTSTART:20240310T070000
END:DAYLIGHT
BEGIN:STANDARD
TZOFFSETFROM:-0400
TZOFFSETTO:-0500
TZNAME:EST
DTSTART:20241103T060000
END:STANDARD
BEGIN:DAYLIGHT
TZOFFSETFROM:-0500
TZOFFSETTO:-0400
TZNAME:EDT
DTSTART:20250309T070000
END:DAYLIGHT
BEGIN:STANDARD
TZOFFSETFROM:-0400
TZOFFSETTO:-0500
TZNAME:EST
DTSTART:20251102T060000
END:STANDARD
BEGIN:DAYLIGHT
TZOFFSETFROM:-0500
TZOFFSETTO:-0400
TZNAME:EDT
DTSTART:20260308T070000
END:DAYLIGHT
BEGIN:STANDARD
TZOFFSETFROM:-0400
TZOFFSETTO:-0500
TZNAME:EST
DTSTART:20261101T060000
END:STANDARD
END:VTIMEZONE
BEGIN:VEVENT
DTSTART;TZID=America/New_York:20251101T090000
DTEND;TZID=America/New_York:20251101T140000
DTSTAMP:20260421T165549
CREATED:20250501T131829Z
LAST-MODIFIED:20250501T131829Z
UID:10000043-1761987600-1762005600@jeffreyearnhardtracingexperience.com
SUMMARY:Wake County Speedway
DESCRIPTION:Jeffrey Earnhardt Racing Experience at Wake County Speedway \nFeel the thrill of stock car racing at its finest with the Jeffrey Earnhardt Racing Experience at Wake County Speedway! Known as “America’s Favorite Bullring\,” this high-banked quarter-mile asphalt oval in Raleigh\, North Carolina\, offers an unforgettable racing adventure for drivers of all skill levels. \nYour journey begins with a detailed orientation led by seasoned instructors who will guide you through the fundamentals of stock car driving\, from car controls to track dynamics and safety protocols. Whether you’re a first-time racer or a motorsport enthusiast\, our team ensures you’re ready to hit the track confidently. \nSuit up in professional racing gear\, climb behind the wheel of a late model\, super late model or open wheel modified racecar\, and experience the excitement as you navigate the tight turns and straightaways of this iconic short track. Every lap brings you closer to the authentic racing experience that has thrilled fans and drivers for decades. \nFor those not ready to drive\, our ride-along packages let you experience the speed and intensity of the track from the passenger seat\, guided by a professional driver who knows how to push the limits. \nThe Jeffrey Earnhardt Racing Experience at Wake County Speedway is perfect for individuals\, groups\, or anyone looking to cross “drive a racecar” off their bucket list. \nHighlights:\n\nDrive a Racecar on the high-banked oval of Wake County Speedway.\nProfessional Instruction to ensure a safe and exhilarating experience.\nRide-Along Packages available for non-drivers seeking a taste of the action.\nNo Experience Needed – Perfect for beginners and racing fans alike.\nUpgrades Available to take your experience to the next level.\n\nDon’t wait to make your racing dreams a reality! Book your spot today and experience the speed\, power\, and excitement of the Jeffrey Earnhardt Racing Experience at Wake County Speedway. 🏁 \nFOR A LIMITED TIME ALL DRIVING PACKAGES ARE 50% OFF!\nBOOK NOW
URL:https://jeffreyearnhardtracingexperience.com/event/wake-county-speedway-2/
LOCATION:Wake County Speedway\, 2109 Simpkins Rd\, Raleigh\, NC\, 27603\, United States
CATEGORIES:North Carolina,November 2025
ATTACH;FMTTYPE=image/jpeg:https://jeffreyearnhardtracingexperience.com/wp-content/uploads/2024/12/wake-county-speedway.jpg
END:VEVENT
BEGIN:VEVENT
DTSTART;TZID=America/New_York:20251102T110000
DTEND;TZID=America/New_York:20251102T160000
DTSTAMP:20260421T165549
CREATED:20250506T190425Z
LAST-MODIFIED:20250506T190425Z
UID:10000046-1762081200-1762099200@jeffreyearnhardtracingexperience.com
SUMMARY:Caraway Speedway
DESCRIPTION:Jeffrey Earnhardt Racing Experience at Caraway Speedway \nStep into the driver’s seat and feel the exhilaration of real stock car racing at Caraway Speedway with the Jeffrey Earnhardt Racing Experience! Located in Sophia\, North Carolina\, this 0.455-mile asphalt oval is a fan-favorite short track that delivers big thrills for every driver. \nYour experience begins with a professional orientation session where expert instructors walk you through everything you need to know—car controls\, racing techniques\, and track safety. Whether you’re a complete beginner or a motorsport enthusiast\, we’ll make sure you’re ready to tackle the track. \nOnce you’re geared up and strapped in\, it’s time to fire up the engine and hit the track. Navigate the smooth straightaways and banked turns of Caraway Speedway as you feel the raw power and precision of a late model\, super late model or open wheel modified racecar. Every lap is packed with excitement and the satisfaction of conquering the track. \nPrefer to feel the thrill from the passenger seat? Our ride-along packages let you experience the high-speed action with a professional driver who knows how to handle every inch of the track. \nThe Jeffrey Earnhardt Racing Experience at Caraway Speedway is perfect for anyone looking for an unforgettable day of fun\, adrenaline\, and memories. \nHighlights:\n\nDrive a Racecar on the legendary Caraway Speedway.\nProfessional Instruction to guide and prepare you for the ultimate experience.\nRide-Along Packages available for those who want to feel the speed without driving.\nNo Experience Needed – Suitable for all skill levels.\nCustom Upgrades available to enhance your racing adventure.\n\nWhether it’s a bucket-list dream\, a unique gift\, or a group outing\, the Jeffrey Earnhardt Racing Experience at Caraway Speedway is your chance to feel the rush of real racing. \nBook your experience today and get ready to take on the track! 🏁\nFOR A LIMITED TIME ALL DRIVING PACKAGES ARE 50% OFF!\nBOOK NOW
URL:https://jeffreyearnhardtracingexperience.com/event/caraway-speedway-11-2-25/
LOCATION:Caraway Speedway\, 2518 Race Track Rd\, Sophia\, NC\, 27350\, United States
CATEGORIES:North Carolina,November 2025
ATTACH;FMTTYPE=image/jpeg:https://jeffreyearnhardtracingexperience.com/wp-content/uploads/2024/12/Caraway-Speedway-logo.jpg
END:VEVENT
BEGIN:VEVENT
DTSTART;TZID=America/New_York:20251107T100000
DTEND;TZID=America/New_York:20251107T140000
DTSTAMP:20260421T165549
CREATED:20250403T155503Z
LAST-MODIFIED:20251029T135725Z
UID:10000041-1762509600-1762524000@jeffreyearnhardtracingexperience.com
SUMMARY:New Smyrna Speedway
DESCRIPTION:Step into the fast lane with the Jeffrey Earnhardt Racing Experience\, now at the iconic New Smyrna Speedway in New Smyrna Beach\, Florida. This exhilarating experience gives everyday fans the unique opportunity to drive a Late Model\, Super Late Model or Open Wheel Modified Racecar on one of the most renowned half-mile asphalt tracks in the country. \nYour journey begins with a detailed orientation session led by skilled racing professionals. Learn the essentials of racecar operation\, track safety\, and driving techniques tailored to maximize your performance on the speedway. This hands-on instruction ensures that drivers of all experience levels feel confident and prepared to take on the challenge. \nOnce geared up in official racing attire\, it’s time for the main event. Settle into the cockpit of a powerful race-prepped stock car\, fire up the engine\, and feel the adrenaline surge as you navigate the banked corners and straightaways of New Smyrna Speedway. Each lap provides the authentic sensation of being a pro driver competing in a high-stakes race. \nIf you’re not ready to drive\, ride-along experiences are available\, where you’ll join a professional driver as they demonstrate the full-throttle power and precision of a racecar\, giving you an unforgettable perspective from the passenger seat. \nThis one-of-a-kind experience is perfect for thrill-seekers\, bucket-list chasers\, and racing enthusiasts looking for a taste of the action that legends like Jeffrey Earnhardt live for. It’s the ultimate way to connect with the sport and create memories that will last a lifetime. \nKey Features:\n\nJeffrey Earnhardt will be at this event.\nDrive or ride in a real racecar on the legendary New Smyrna Speedway.\nProfessional training to ensure a safe and exhilarating experience.\nMultiple packages tailored to your desired intensity and duration.\nAll equipment provided—just bring your excitement and energy.\nA fun and safe environment suitable for all skill levels.\n\nRev your engines and join the action at the Jeffrey Earnhardt Racing Experience at New Smyrna Speedway—where the track becomes your playground! \nFOR A LIMITED TIME ALL DRIVING PACKAGES ARE 50% OFF!\nBOOK NOW
URL:https://jeffreyearnhardtracingexperience.com/event/new-smyrna-speedway-11-22-25/
LOCATION:New Smyrna Speedway\, 3939 FL-44\, New Smyrna Beach\, New Smyrna\, FL\, 32168\, United States
CATEGORIES:Florida,March 2025,November 2025
ATTACH;FMTTYPE=image/jpeg:https://jeffreyearnhardtracingexperience.com/wp-content/uploads/2024/11/new_smyrna_speedway.jpg
ORGANIZER;CN="Jeffrey Earnhardt Racing Experience":MAILTO:support@jeffreyearnhardtracingexperience.com
END:VEVENT
BEGIN:VEVENT
DTSTART;TZID=America/New_York:20251109T100000
DTEND;TZID=America/New_York:20251109T130000
DTSTAMP:20260421T165549
CREATED:20250108T180152Z
LAST-MODIFIED:20251030T170122Z
UID:10000001-1762682400-1762693200@jeffreyearnhardtracingexperience.com
SUMMARY:Citrus County Speedway
DESCRIPTION:Feel the thrill of stock car racing firsthand at the Jeffrey Earnhardt Racing Experience\, located at the legendary Citrus County Speedway in Inverness\, Florida. This immersive experience puts you in the driver’s seat of a Late Model\, Super Late Model or Open Wheel racecar\, offering you a taste of what it’s like to compete on a real short track. \nBegin your day with a comprehensive driver orientation led by professional instructors. You’ll receive expert guidance on vehicle handling\, track dynamics\, safety protocols\, and tips for navigating the 3/8-mile oval. Whether you’re a first-timer or a seasoned racing fan\, the training ensures you’re ready to tackle the track like a pro. \nOnce suited up in authentic racing gear\, it’s time to hit the asphalt. Climb into a powerful stock car and experience the rush of driving at high speeds\, feeling every twist and turn of the track beneath you. Choose from various driving packages\, whether you’re looking for a few high-adrenaline laps or a full racing session that pushes your skills to the limit. \nFor those who prefer to soak up the action from the passenger seat\, ride-along options are available with a professional driver taking the wheel\, allowing you to feel the speed and precision of competitive racing without having to drive. \nThe Jeffrey Earnhardt Racing Experience is perfect for thrill-seekers\, racing enthusiasts\, or anyone looking for a once-in-a-lifetime adventure. With an emphasis on safety\, authenticity\, and fun\, this is your chance to channel your inner NASCAR star and create unforgettable memories on the track. \nKey Highlights:\n\nDrive a real racecar on a professional short track.\nGuided training and support from experienced instructors.\nMultiple driving and ride-along packages available.\nSuitable for all skill levels—no prior experience necessary.\nLocated at Citrus County Speedway\, known for its rich racing history.\n\nBook your spot today and make your racing dreams a reality! \nFOR A LIMITED TIME ALL DRIVING PACKAGES ARE 50% OFF!\nBOOK NOW
URL:https://jeffreyearnhardtracingexperience.com/event/citrus-county-speedway/
LOCATION:Citrus County Speedway\, 3600 S Florida Ave\, Inverness\, Florida\, 34450\, United States
CATEGORIES:Florida,November 2025
ATTACH;FMTTYPE=image/jpeg:https://jeffreyearnhardtracingexperience.com/wp-content/uploads/2024/12/Citrus-County-Speedway-1.jpg
ORGANIZER;CN="Jeffrey Earnhardt Racing Experience":MAILTO:support@jeffreyearnhardtracingexperience.com
END:VEVENT
BEGIN:VEVENT
DTSTART;TZID=America/New_York:20251115T100000
DTEND;TZID=America/New_York:20251115T160000
DTSTAMP:20260421T165549
CREATED:20250814T163556Z
LAST-MODIFIED:20250814T163556Z
UID:10000058-1763200800-1763222400@jeffreyearnhardtracingexperience.com
SUMMARY:South Boston Speedway
DESCRIPTION:Jeffrey Earnhardt Racing Experience at South Boston Speedway \nStep into the driver’s seat and feel the rush of real stock car racing at South Boston Speedway with the Jeffrey Earnhardt Racing Experience! Located in South Boston\, Virginia\, this 4/10-mile asphalt oval\, known for its rich racing history and exciting layout\, is the perfect venue for your racing dreams to come to life. \nYour adventure begins with a professional orientation led by experienced instructors. They’ll teach you everything you need to know about driving a racecar\, including car handling\, safety guidelines\, and track dynamics. Whether you’re a first-time driver or a motorsports fan\, our team ensures you’re ready to hit the track confidently. \nOnce you’re suited up in authentic racing gear\, climb behind the wheel of a late model\, super late model or open wheel modified racecar and take control. Feel the power of the engine as you navigate the challenging straightaways and tight turns of South Boston Speedway\, a track that has tested some of the best drivers in the sport. \nNot ready to drive? Opt for a ride-along experience and let a professional driver take you for an unforgettable\, high-speed thrill around the track. \nThe Jeffrey Earnhardt Racing Experience at South Boston Speedway is perfect for individuals\, group outings\, or anyone looking for a one-of-a-kind adventure. \nHighlights:\n\nDrive a Racecar on the legendary South Boston Speedway.\nProfessional Training to guide you through a safe and exhilarating experience.\nRide-Along Packages for non-drivers who want to feel the speed and excitement.\nNo Experience Necessary – Perfect for beginners and seasoned racing fans alike.\nUpgrades Available to customize your racing adventure.\n\nDon’t just dream about racing—experience it! Book your spot today and take on the track at South Boston Speedway with the Jeffrey Earnhardt Racing Experience. 🏁 \nFOR A LIMITED TIME ALL DRIVING PACKAGES ARE 50% OFF!\nBOOK NOW
URL:https://jeffreyearnhardtracingexperience.com/event/south-boston-speedway-11-15-25/
LOCATION:South Boston Speedway\, 1188 James D Hagood Hwy\, South Boston\, VA\, 24592\, United States
CATEGORIES:November 2025,Virginia
ATTACH;FMTTYPE=image/png:https://jeffreyearnhardtracingexperience.com/wp-content/uploads/2024/12/south-boston-speedway-logo.png
ORGANIZER;CN="Jeffrey Earnhardt Racing Experience":MAILTO:support@jeffreyearnhardtracingexperience.com
END:VEVENT
BEGIN:VEVENT
DTSTART;TZID=America/New_York:20251116T100000
DTEND;TZID=America/New_York:20251116T150000
DTSTAMP:20260421T165549
CREATED:20250805T192948Z
LAST-MODIFIED:20250814T163504Z
UID:10000056-1763287200-1763305200@jeffreyearnhardtracingexperience.com
SUMMARY:Dominion Raceway
DESCRIPTION:Jeffrey Earnhardt Racing Experience at Dominion Raceway \nExperience the thrill of stock car racing at Dominion Raceway with the Jeffrey Earnhardt Racing Experience! Located in Thornburg\, Virginia\, this state-of-the-art 4/10-mile asphalt oval provides the perfect setting for an unforgettable day behind the wheel of a late model\, super late model or open wheel modified racecar. \nYour adventure begins with a detailed orientation led by our experienced instructors\, covering car controls\, racing techniques\, and track safety. No prior experience is necessary—our team ensures you’re ready to take on the track\, whether it’s your first time driving or you’re a lifelong motorsports fan. \nSuit up in authentic racing gear\, buckle in\, and feel the adrenaline rush as you fire up the engine and take the wheel. Navigate the smooth straightaways and tackle the banked corners of Dominion Raceway as you experience the speed and power of a real race-prepped stock car. \nPrefer to ride along? Our ride-along packages let you experience the excitement from the passenger seat with a professional driver at the helm\, giving you a taste of the action at full throttle. \nPerfect for individuals\, groups\, or special occasions\, the Jeffrey Earnhardt Racing Experience at Dominion Raceway is your chance to make lasting memories on the track. \nHighlights:\n\nDrive a Racecar on the dynamic Dominion Raceway oval.\nProfessional Instruction ensures a safe and exciting experience.\nRide-Along Packages for non-drivers who want to feel the speed.\nNo Experience Needed – Great for beginners and racing enthusiasts alike.\nCustom Upgrades to enhance your racing adventure.\n\nDon’t miss the opportunity to turn your racing dreams into reality. Book your spot today and join us for an incredible day at Dominion Raceway! 🏁 \nFOR A LIMITED TIME ALL DRIVING PACKAGES ARE 50% OFF!\nBOOK NOW
URL:https://jeffreyearnhardtracingexperience.com/event/dominion-raceway-11-15-25/
LOCATION:Dominion Raceway\, 6501 Dominion Raceway Ave\, Woodford\, 22580\, United States
CATEGORIES:November 2025,Virginia
ATTACH;FMTTYPE=image/jpeg:https://jeffreyearnhardtracingexperience.com/wp-content/uploads/2024/12/Dominion-Raceway.jpg
ORGANIZER;CN="Jeffrey Earnhardt Racing Experience":MAILTO:support@jeffreyearnhardtracingexperience.com
END:VEVENT
BEGIN:VEVENT
DTSTART;TZID=America/New_York:20251129T110000
DTEND;TZID=America/New_York:20251129T160000
DTSTAMP:20260421T165549
CREATED:20251114T170140Z
LAST-MODIFIED:20251114T170710Z
UID:10000090-1764414000-1764432000@jeffreyearnhardtracingexperience.com
SUMMARY:Hickory Motor Speedway
DESCRIPTION:Jeffrey Earnhardt Racing Experience at Hickory Motor Speedway \nExperience true short-track racing history at Hickory Motor Speedway with the Jeffrey Earnhardt Racing Experience! Known as the Birthplace of the NASCAR Stars\, Hickory is one of the most iconic short tracks in America—and now you can take the wheel and drive a real NASCAR-style stock car on this legendary 0.363-mile oval. \nYour day begins with a driver’s meeting where our professional instructors walk you through safety procedures\, track layout\, and driving techniques. Whether it’s your first time or your hundredth\, our team will make sure you’re confident and ready to race. No experience required—just bring your excitement! \nOnce you suit up and climb into one of our powerful Late Models\, it’s time to roll onto the track. Feel the rumble of the engine and the rush of adrenaline as you accelerate down the straights and carve through Hickory’s tight\, challenging turns. With no pace car and no speed limits\, this is as close as it gets to real short-track racing. \nIf driving isn’t for you\, you can still experience the thrill with our Ride-Along Experience\, letting you sit shotgun while a professional driver shows you what race-speed feels like! \nHighlights:\n🏁 Drive a Real Stock Car on the historic Hickory Motor Speedway🔥 Authentic Short-Track Experience on a track where legends were made👨‍🏫 Professional Instruction included—no experience necessary💨 No Speed Limits\, No Pace Car—you set the pace🎁 Great for gifts\, thrill-seekers\, and bucket list moments \nDon’t just watch the action—be part of it.Book your spot now and experience the Jeffrey Earnhardt Racing Experience at Hickory Motor Speedway! 🏁 \nFOR A LIMITED TIME ALL DRIVING PACKAGES ARE 50% OFF!\nBOOK NOW
URL:https://jeffreyearnhardtracingexperience.com/event/hickory-motor-speedway-11-29-25/
LOCATION:Hickory Motor Speedway\, 3130 US Hwy 70 SE\, Newton\, 28658\, United States
CATEGORIES:North Carolina,November 2025
ATTACH;FMTTYPE=image/png:https://jeffreyearnhardtracingexperience.com/wp-content/uploads/2025/11/hickory-motor-speedway-logo.png
ORGANIZER;CN="Jeffrey Earnhardt Racing Experience":MAILTO:support@jeffreyearnhardtracingexperience.com
END:VEVENT
END:VCALENDAR