BEGIN:VCALENDAR
VERSION:2.0
PRODID:-//Jeffrey Earnhardt Racing Experience - ECPv6.15.20//NONSGML v1.0//EN
CALSCALE:GREGORIAN
METHOD:PUBLISH
X-WR-CALNAME:Jeffrey Earnhardt Racing Experience
X-ORIGINAL-URL:https://jeffreyearnhardtracingexperience.com
X-WR-CALDESC:Events for Jeffrey Earnhardt Racing Experience
REFRESH-INTERVAL;VALUE=DURATION:PT1H
X-Robots-Tag:noindex
X-PUBLISHED-TTL:PT1H
BEGIN:VTIMEZONE
TZID:America/New_York
BEGIN:DAYLIGHT
TZOFFSETFROM:-0500
TZOFFSETTO:-0400
TZNAME:EDT
DTSTART:20250309T070000
END:DAYLIGHT
BEGIN:STANDARD
TZOFFSETFROM:-0400
TZOFFSETTO:-0500
TZNAME:EST
DTSTART:20251102T060000
END:STANDARD
BEGIN:DAYLIGHT
TZOFFSETFROM:-0500
TZOFFSETTO:-0400
TZNAME:EDT
DTSTART:20260308T070000
END:DAYLIGHT
BEGIN:STANDARD
TZOFFSETFROM:-0400
TZOFFSETTO:-0500
TZNAME:EST
DTSTART:20261101T060000
END:STANDARD
BEGIN:DAYLIGHT
TZOFFSETFROM:-0500
TZOFFSETTO:-0400
TZNAME:EDT
DTSTART:20270314T070000
END:DAYLIGHT
BEGIN:STANDARD
TZOFFSETFROM:-0400
TZOFFSETTO:-0500
TZNAME:EST
DTSTART:20271107T060000
END:STANDARD
END:VTIMEZONE
BEGIN:VEVENT
DTSTART;TZID=America/New_York:20261108T110000
DTEND;TZID=America/New_York:20261108T140000
DTSTAMP:20260421T134619
CREATED:20260416T195925Z
LAST-MODIFIED:20260416T200039Z
UID:10000121-1794135600-1794146400@jeffreyearnhardtracingexperience.com
SUMMARY:Montgomery Motor Speedway
DESCRIPTION:Jeffrey Earnhardt Racing Experience at Montgomery Motor Speedway \nRev your engines and get ready for the ultimate adrenaline rush at Montgomery Motor Speedway with the Jeffrey Earnhardt Racing Experience! This is your chance to take the wheel of a real late model\, super late model or open wheel modified racecar and race on one of Alabama’s oldest and most storied short tracks. \nThe adventure begins with a comprehensive orientation session led by experienced instructors. They’ll walk you through everything from car controls to track safety\, ensuring you feel confident and prepared to hit the pavement. No prior racing experience is needed—just bring your enthusiasm and excitement! \nOnce you’re suited up in authentic racing gear\, it’s time to strap in\, fire up the engine\, and take on the half-mile asphalt oval. Feel the thrill as you navigate the tight turns and straightaways of Montgomery Motor Speedway\, a track that has challenged drivers for decades. \nNot ready to drive? Choose a ride-along experience and let a professional driver take you for the ride of your life\, showcasing the speed and precision these powerful machines can achieve. \nWhether you’re chasing a lifelong dream\, planning a group outing\, or looking for an unforgettable gift\, the Jeffrey Earnhardt Racing Experience at Montgomery Motor Speedway is the perfect way to make lasting memories. \nHighlights:\n\nDrive a Racecar on the historic Montgomery Motor Speedway.\nProfessional Training provided to ensure a safe and exciting experience.\nRide-Along Packages available for non-drivers seeking high-speed thrills.\nNo Experience Needed – Great for beginners and racing fans alike.\nCustomizable Upgrades to enhance your experience.\n\nTake the first step toward your racing dream and book your spot today. The track is calling—are you ready to answer? 🏁 \nFOR A LIMITED TIME ALL DRIVING PACKAGES ARE 50% OFF!\nBOOK NOW
URL:https://jeffreyearnhardtracingexperience.com/event/montgomery-motor-speedway-11-8-26/
LOCATION:Montgomery Motor Speedway\, 480 Booth Rd\,\, Montgomery\, AL\, 36108\, United States
CATEGORIES:Alabama,November 2026
ATTACH;FMTTYPE=image/jpeg:https://jeffreyearnhardtracingexperience.com/wp-content/uploads/2024/11/Montgomery_Motor_Speedway.jpg
END:VEVENT
BEGIN:VEVENT
DTSTART;TZID=America/New_York:20261114T090000
DTEND;TZID=America/New_York:20261114T160000
DTSTAMP:20260421T134619
CREATED:20260403T195523Z
LAST-MODIFIED:20260403T195523Z
UID:10000116-1794646800-1794672000@jeffreyearnhardtracingexperience.com
SUMMARY:Rockingham Speedway
DESCRIPTION:Jeffrey Earnhardt Racing Experience at Rockingham Speedway (North Carolina) \nStep onto one of NASCAR’s most legendary tracks and experience real speed at Rockingham Speedway with the Jeffrey Earnhardt Racing Experience! Known as “The Rock\,” this historic 1-mile oval is famous for its unique surface\, high tire wear\, and raw\, challenging racing conditions—making it the perfect place to live out your racing dreams. \nYour day begins with a detailed driver orientation led by professional instructors who will walk you through racing lines\, throttle control\, braking points\, and how to handle Rockingham’s fast\, demanding layout. Whether you’re a first-timer or a seasoned racing fan\, you’ll be fully prepared to take on this iconic track. \nThen it’s time to suit up and choose your machine. You’ll have the opportunity to drive an open-wheel Modified\, a powerful Cup Car\, or a modern GEN6 racecar—each delivering a completely different\, high-adrenaline driving experience. From the moment you fire up the engine and roll onto the track\, you’ll feel the history and intensity that makes Rockingham so special. \nWith no pace car and no speed limits\, you’re in full control as you power down the straightaways and battle the track’s unique grip and tire wear—just like the pros. \nPrefer to ride instead? Our Ride-Along Experience puts you in the passenger seat for a full-speed lap with a professional driver. \nHighlights:\n🏁 Drive real racecars – Choose from Modified\, Cup Car\, or GEN6 racecar🔥 Race at “The Rock” – One of the most legendary tracks in NASCAR history👨‍🏫 Professional instruction – No experience required💨 No pace car – Pure racing freedom⚡ Unique racing surface that challenges drivers and rewards skill🎁 Perfect for bucket-list experiences\, gifts\, or group events \nThis isn’t just driving—it’s real racing on one of the toughest tracks in America.Book your Jeffrey Earnhardt Racing Experience at Rockingham Speedway today and see if you can handle “The Rock.” 🏁 \nFOR A LIMITED TIME ALL DRIVING PACKAGES ARE 40% OFF!\nBOOK NOW
URL:https://jeffreyearnhardtracingexperience.com/event/rockingham-speedway/
LOCATION:Rockingham Speedway\, 2152 N US Hwy 1\, Rockingham\, NC\, 28379\, United States
CATEGORIES:North Carolina,November 2026
ATTACH;FMTTYPE=image/png:https://jeffreyearnhardtracingexperience.com/wp-content/uploads/2026/04/rockingham-speedway-logo.png
ORGANIZER;CN="Jeffrey Earnhardt Racing Experience":MAILTO:support@jeffreyearnhardtracingexperience.com
END:VEVENT
BEGIN:VEVENT
DTSTART;TZID=America/New_York:20261121T090000
DTEND;TZID=America/New_York:20261121T170000
DTSTAMP:20260421T134619
CREATED:20251121T212404Z
LAST-MODIFIED:20260222T120631Z
UID:10000101-1795251600-1795280400@jeffreyearnhardtracingexperience.com
SUMMARY:New Smyrna Speedway
DESCRIPTION:Step into the fast lane with the Jeffrey Earnhardt Racing Experience\, now at the iconic New Smyrna Speedway in New Smyrna Beach\, Florida. This exhilarating experience gives everyday fans the unique opportunity to drive a Late Model\, Super Late Model or Open Wheel Modified Racecar on one of the most renowned half-mile asphalt tracks in the country. \nYour journey begins with a detailed orientation session led by skilled racing professionals. Learn the essentials of racecar operation\, track safety\, and driving techniques tailored to maximize your performance on the speedway. This hands-on instruction ensures that drivers of all experience levels feel confident and prepared to take on the challenge. \nOnce geared up in official racing attire\, it’s time for the main event. Settle into the cockpit of a powerful race-prepped stock car\, fire up the engine\, and feel the adrenaline surge as you navigate the banked corners and straightaways of New Smyrna Speedway. Each lap provides the authentic sensation of being a pro driver competing in a high-stakes race. \nIf you’re not ready to drive\, ride-along experiences are available\, where you’ll join a professional driver as they demonstrate the full-throttle power and precision of a racecar\, giving you an unforgettable perspective from the passenger seat. \nThis one-of-a-kind experience is perfect for thrill-seekers\, bucket-list chasers\, and racing enthusiasts looking for a taste of the action that legends like Jeffrey Earnhardt live for. It’s the ultimate way to connect with the sport and create memories that will last a lifetime. \nKey Features:\n\nDrive or ride in a real racecar on the legendary New Smyrna Speedway.\nProfessional training to ensure a safe and exhilarating experience.\nMultiple packages tailored to your desired intensity and duration.\nAll equipment provided—just bring your excitement and energy.\nA fun and safe environment suitable for all skill levels.\n\nRev your engines and join the action at the Jeffrey Earnhardt Racing Experience at New Smyrna Speedway—where the track becomes your playground! \nFOR A LIMITED TIME ALL DRIVING PACKAGES ARE 50% OFF!\nBOOK NOW
URL:https://jeffreyearnhardtracingexperience.com/event/new-smyrna-speedway-11-7-26/
LOCATION:New Smyrna Speedway\, 3939 FL-44\, New Smyrna Beach\, New Smyrna\, FL\, 32168\, United States
CATEGORIES:Florida,November 2026
ATTACH;FMTTYPE=image/jpeg:https://jeffreyearnhardtracingexperience.com/wp-content/uploads/2024/11/new_smyrna_speedway.jpg
ORGANIZER;CN="Jeffrey Earnhardt Racing Experience":MAILTO:support@jeffreyearnhardtracingexperience.com
END:VEVENT
BEGIN:VEVENT
DTSTART;TZID=America/New_York:20261128T110000
DTEND;TZID=America/New_York:20261128T150000
DTSTAMP:20260421T134619
CREATED:20260402T141241Z
LAST-MODIFIED:20260403T201103Z
UID:10000115-1795863600-1795878000@jeffreyearnhardtracingexperience.com
SUMMARY:Hickory Motor Speedway
DESCRIPTION:Jeffrey Earnhardt Racing Experience at Hickory Motor Speedway \nExperience true short-track racing history at Hickory Motor Speedway with the Jeffrey Earnhardt Racing Experience! Known as the Birthplace of the NASCAR Stars\, Hickory is one of the most iconic short tracks in America—and now you can take the wheel and drive a real NASCAR-style stock car on this legendary 0.363-mile oval. \nYour day begins with a driver’s meeting where our professional instructors walk you through safety procedures\, track layout\, and driving techniques. Whether it’s your first time or your hundredth\, our team will make sure you’re confident and ready to race. No experience required—just bring your excitement! \nOnce you suit up and climb into one of our powerful Late Models\, it’s time to roll onto the track. Feel the rumble of the engine and the rush of adrenaline as you accelerate down the straights and carve through Hickory’s tight\, challenging turns. With no pace car and no speed limits\, this is as close as it gets to real short-track racing. \nIf driving isn’t for you\, you can still experience the thrill with our Ride-Along Experience\, letting you sit shotgun while a professional driver shows you what race-speed feels like! \nHighlights:\n🏁 Drive a Real Stock Car on the historic Hickory Motor Speedway🔥 Authentic Short-Track Experience on a track where legends were made👨‍🏫 Professional Instruction included—no experience necessary💨 No Speed Limits\, No Pace Car—you set the pace🎁 Great for gifts\, thrill-seekers\, and bucket list moments \nDon’t just watch the action—be part of it.Book your spot now and experience the Jeffrey Earnhardt Racing Experience at Hickory Motor Speedway! 🏁 \nFOR A LIMITED TIME ALL DRIVING PACKAGES ARE 50% OFF!\nBOOK NOW
URL:https://jeffreyearnhardtracingexperience.com/event/hickory-motor-speedway-11-28/
LOCATION:Hickory Motor Speedway\, 3130 US Hwy 70 SE\, Newton\, 28658\, United States
CATEGORIES:North Carolina,November 2026
ATTACH;FMTTYPE=image/png:https://jeffreyearnhardtracingexperience.com/wp-content/uploads/2025/11/hickory-motor-speedway-logo.png
ORGANIZER;CN="Jeffrey Earnhardt Racing Experience":MAILTO:support@jeffreyearnhardtracingexperience.com
END:VEVENT
END:VCALENDAR