BEGIN:VCALENDAR
VERSION:2.0
PRODID:-//Jeffrey Earnhardt Racing Experience - ECPv6.15.20//NONSGML v1.0//EN
CALSCALE:GREGORIAN
METHOD:PUBLISH
X-ORIGINAL-URL:https://jeffreyearnhardtracingexperience.com
X-WR-CALDESC:Events for Jeffrey Earnhardt Racing Experience
REFRESH-INTERVAL;VALUE=DURATION:PT1H
X-Robots-Tag:noindex
X-PUBLISHED-TTL:PT1H
BEGIN:VTIMEZONE
TZID:America/New_York
BEGIN:DAYLIGHT
TZOFFSETFROM:-0500
TZOFFSETTO:-0400
TZNAME:EDT
DTSTART:20250309T070000
END:DAYLIGHT
BEGIN:STANDARD
TZOFFSETFROM:-0400
TZOFFSETTO:-0500
TZNAME:EST
DTSTART:20251102T060000
END:STANDARD
BEGIN:DAYLIGHT
TZOFFSETFROM:-0500
TZOFFSETTO:-0400
TZNAME:EDT
DTSTART:20260308T070000
END:DAYLIGHT
BEGIN:STANDARD
TZOFFSETFROM:-0400
TZOFFSETTO:-0500
TZNAME:EST
DTSTART:20261101T060000
END:STANDARD
BEGIN:DAYLIGHT
TZOFFSETFROM:-0500
TZOFFSETTO:-0400
TZNAME:EDT
DTSTART:20270314T070000
END:DAYLIGHT
BEGIN:STANDARD
TZOFFSETFROM:-0400
TZOFFSETTO:-0500
TZNAME:EST
DTSTART:20271107T060000
END:STANDARD
END:VTIMEZONE
BEGIN:VEVENT
DTSTART;TZID=America/New_York:20260228T100000
DTEND;TZID=America/New_York:20260228T130000
DTSTAMP:20260421T134712
CREATED:20251111T204622Z
LAST-MODIFIED:20260226T165033Z
UID:10000089-1772272800-1772283600@jeffreyearnhardtracingexperience.com
SUMMARY:Citrus County Speedway
DESCRIPTION:Feel the thrill of stock car racing firsthand at the Jeffrey Earnhardt Racing Experience\, located at the legendary Citrus County Speedway in Inverness\, Florida. This immersive experience puts you in the driver’s seat of a Late Model\, Super Late Model or Open Wheel racecar\, offering you a taste of what it’s like to compete on a real short track. \nBegin your day with a comprehensive driver orientation led by professional instructors. You’ll receive expert guidance on vehicle handling\, track dynamics\, safety protocols\, and tips for navigating the 3/8-mile oval. Whether you’re a first-timer or a seasoned racing fan\, the training ensures you’re ready to tackle the track like a pro. \nOnce suited up in authentic racing gear\, it’s time to hit the asphalt. Climb into a powerful stock car and experience the rush of driving at high speeds\, feeling every twist and turn of the track beneath you. Choose from various driving packages\, whether you’re looking for a few high-adrenaline laps or a full racing session that pushes your skills to the limit. \nFor those who prefer to soak up the action from the passenger seat\, ride-along options are available with a professional driver taking the wheel\, allowing you to feel the speed and precision of competitive racing without having to drive. \nThe Jeffrey Earnhardt Racing Experience is perfect for thrill-seekers\, racing enthusiasts\, or anyone looking for a once-in-a-lifetime adventure. With an emphasis on safety\, authenticity\, and fun\, this is your chance to channel your inner NASCAR star and create unforgettable memories on the track. \nKey Highlights:\n\nDrive a real racecar on a professional short track.\nGuided training and support from experienced instructors.\nMultiple driving and ride-along packages available.\nSuitable for all skill levels—no prior experience necessary.\nLocated at Citrus County Speedway\, known for its rich racing history.\n\nBook your spot today and make your racing dreams a reality! \nFOR A LIMITED TIME ALL DRIVING PACKAGES ARE 50% OFF!\nBOOK NOW
URL:https://jeffreyearnhardtracingexperience.com/event/citrus-county-speedway-2-28-26/
LOCATION:Citrus County Speedway\, 3600 S Florida Ave\, Inverness\, Florida\, 34450\, United States
CATEGORIES:February 2026,Florida
ATTACH;FMTTYPE=image/jpeg:https://jeffreyearnhardtracingexperience.com/wp-content/uploads/2024/12/Citrus-County-Speedway-1.jpg
ORGANIZER;CN="Jeffrey Earnhardt Racing Experience":MAILTO:support@jeffreyearnhardtracingexperience.com
END:VEVENT
BEGIN:VEVENT
DTSTART;TZID=America/New_York:20260301T100000
DTEND;TZID=America/New_York:20260301T150000
DTSTAMP:20260421T134712
CREATED:20251111T202918Z
LAST-MODIFIED:20260222T120550Z
UID:10000088-1772359200-1772377200@jeffreyearnhardtracingexperience.com
SUMMARY:Showtime Speedway
DESCRIPTION:Jeffrey Earnhardt Racing Experience at Showtime Speedway \nFeel the adrenaline of real short-track racing at Showtime Speedway with the Jeffrey Earnhardt Racing Experience! Located in Clearwater\, Florida\, this fast and exciting 1/4-mile oval is the perfect place to experience the thrill of driving a real NASCAR-style stock car and see what it’s like to race where the pros have raced. \nYour day kicks off with a detailed driver’s orientation led by professional instructors who will walk you through safety procedures\, racing techniques\, and car handling tips to help you make the most of your experience. No previous racing experience is required—just bring your enthusiasm and get ready for the ride of your life! \nOnce you’re suited up and strapped in\, it’s your turn to take the green flag. You’ll feel the roar of the engine and the rush of power as you accelerate through the straights and dive into Showtime’s tight\, high-energy turns. No pace car\, no speed limits—just you\, the track\, and pure racing excitement. \nNot ready to drive? You can still experience the thrill from the passenger seat with our Ride-Along Experience\, where a professional driver takes you for a high-speed run that will leave you breathless! \nHighlights:\n🏁 Drive a Real Stock Car – Get behind the wheel of a genuine NASCAR-style racecar.🔥 Iconic Florida Short Track – Race at the legendary Showtime Speedway in Clearwater.👨‍🏫 Professional Instruction – Learn from experienced racing pros—no experience needed.🎁 Perfect for Gifts or Bucket List Adventures – Create memories that last a lifetime! \nDon’t just watch the race—be the race!Book your spot now for the Jeffrey Earnhardt Racing Experience at Showtime Speedway and make your racing dreams come true! 🏁 \nFOR A LIMITED TIME ALL DRIVING PACKAGES ARE 50% OFF!\nBOOK NOW
URL:https://jeffreyearnhardtracingexperience.com/event/showtime-speedway-2-22-26/
LOCATION:Showtime Speedway\, 4398 126th Ave N\, Clearwater\, 33762\, United States
CATEGORIES:Florida,March 2026
ATTACH;FMTTYPE=image/png:https://jeffreyearnhardtracingexperience.com/wp-content/uploads/2025/11/showtime-speedway.png
ORGANIZER;CN="Jeffrey Earnhardt Racing Experience":MAILTO:support@jeffreyearnhardtracingexperience.com
END:VEVENT
BEGIN:VEVENT
DTSTART;TZID=America/New_York:20260326T130000
DTEND;TZID=America/New_York:20260326T150000
DTSTAMP:20260421T134712
CREATED:20260310T141909Z
LAST-MODIFIED:20260310T142005Z
UID:10000114-1774530000-1774537200@jeffreyearnhardtracingexperience.com
SUMMARY:Showtime Speedway
DESCRIPTION:Jeffrey Earnhardt Racing Experience at Showtime Speedway \nFeel the adrenaline of real short-track racing at Showtime Speedway with the Jeffrey Earnhardt Racing Experience! Located in Clearwater\, Florida\, this fast and exciting 1/4-mile oval is the perfect place to experience the thrill of driving a real NASCAR-style stock car and see what it’s like to race where the pros have raced. \nYour day kicks off with a detailed driver’s orientation led by professional instructors who will walk you through safety procedures\, racing techniques\, and car handling tips to help you make the most of your experience. No previous racing experience is required—just bring your enthusiasm and get ready for the ride of your life! \nOnce you’re suited up and strapped in\, it’s your turn to take the green flag. You’ll feel the roar of the engine and the rush of power as you accelerate through the straights and dive into Showtime’s tight\, high-energy turns. No pace car\, no speed limits—just you\, the track\, and pure racing excitement. \nNot ready to drive? You can still experience the thrill from the passenger seat with our Ride-Along Experience\, where a professional driver takes you for a high-speed run that will leave you breathless! \nHighlights:\n🏁 Drive a Real Stock Car – Get behind the wheel of a genuine NASCAR-style racecar.🔥 Iconic Florida Short Track – Race at the legendary Showtime Speedway in Clearwater.👨‍🏫 Professional Instruction – Learn from experienced racing pros—no experience needed.🎁 Perfect for Gifts or Bucket List Adventures – Create memories that last a lifetime! \nDon’t just watch the race—be the race!Book your spot now for the Jeffrey Earnhardt Racing Experience at Showtime Speedway and make your racing dreams come true! 🏁 \nFOR A LIMITED TIME ALL DRIVING PACKAGES ARE 50% OFF!\nBOOK NOW
URL:https://jeffreyearnhardtracingexperience.com/event/showtime-speedway-3-26-26/
LOCATION:Showtime Speedway\, 4398 126th Ave N\, Clearwater\, 33762\, United States
CATEGORIES:Florida,March 2026
ATTACH;FMTTYPE=image/png:https://jeffreyearnhardtracingexperience.com/wp-content/uploads/2025/11/showtime-speedway.png
ORGANIZER;CN="Jeffrey Earnhardt Racing Experience":MAILTO:support@jeffreyearnhardtracingexperience.com
END:VEVENT
BEGIN:VEVENT
DTSTART;TZID=America/New_York:20260328T090000
DTEND;TZID=America/New_York:20260328T160000
DTSTAMP:20260421T134712
CREATED:20251029T141839Z
LAST-MODIFIED:20251029T142024Z
UID:10000065-1774688400-1774713600@jeffreyearnhardtracingexperience.com
SUMMARY:Five Flags Speedway
DESCRIPTION:Jeffrey Earnhardt Racing Experience at Five Flags Speedway \nGet ready to feel the roar of the engine and the thrill of the track at Five Flags Speedway with the Jeffrey Earnhardt Racing Experience! Known as the home of the prestigious Snowball Derby\, this historic half-mile asphalt oval in Pensacola\, Florida\, offers the perfect backdrop for your high-speed racing adventure. \nYour day kicks off with a professional orientation session led by experienced instructors who will teach you the ins and outs of stock car driving. Learn how to handle the car\, navigate the track\, and stay safe while experiencing the power of a race-prepped stock car. Whether you’re a first-time driver or a lifelong racing fan\, our training ensures you’re ready to take on the track. \nOnce suited up in authentic racing gear\, you’ll climb into the driver’s seat and fire up the engine. Feel the rush as you accelerate down the straightaways and take on the banked turns of Five Flags Speedway\, channeling your inner racing pro. \nFor those who prefer to enjoy the ride without driving\, our ride-along packages let you experience the speed and precision of the track with a professional driver at the wheel. \nThe Jeffrey Earnhardt Racing Experience at Five Flags Speedway is perfect for thrill-seekers\, motorsports enthusiasts\, or anyone looking to cross an unforgettable experience off their bucket list. \nHighlights:\n\nDrive a Racecar on the legendary Five Flags Speedway.\nProfessional Training ensures safety and confidence for all participants.\nRide-Along Packages Available for non-drivers seeking an adrenaline rush.\nNo Experience Needed – Perfect for beginners and seasoned fans alike.\nUpgrades Available to customize your experience.\n\nFeel the excitement of racing on one of America’s most famous short tracks. Book your spot today and experience the Jeffrey Earnhardt Racing Experience at Five Flags Speedway! 🏁 \nFOR A LIMITED TIME ALL DRIVING PACKAGES ARE 50% OFF!\nBOOK NOW
URL:https://jeffreyearnhardtracingexperience.com/event/five-flags-speedway-3-28-26/
LOCATION:Five Flags Speedway\, 7451 Pine Forest Rd\, Pensacola\, FL\, 32526\, United States
CATEGORIES:Florida,March 2026
ATTACH;FMTTYPE=image/jpeg:https://jeffreyearnhardtracingexperience.com/wp-content/uploads/2024/11/five_flags_speedway.jpg
ORGANIZER;CN="Jeffrey Earnhardt Racing Experience":MAILTO:support@jeffreyearnhardtracingexperience.com
END:VEVENT
BEGIN:VEVENT
DTSTART;TZID=America/New_York:20260329T110000
DTEND;TZID=America/New_York:20260329T140000
DTSTAMP:20260421T134712
CREATED:20260302T150537Z
LAST-MODIFIED:20260302T150632Z
UID:10000113-1774782000-1774792800@jeffreyearnhardtracingexperience.com
SUMMARY:New Smyrna Speedway
DESCRIPTION:Step into the fast lane with the Jeffrey Earnhardt Racing Experience\, now at the iconic New Smyrna Speedway in New Smyrna Beach\, Florida. This exhilarating experience gives everyday fans the unique opportunity to drive a Late Model\, Super Late Model or Open Wheel Modified Racecar on one of the most renowned half-mile asphalt tracks in the country. \nYour journey begins with a detailed orientation session led by skilled racing professionals. Learn the essentials of racecar operation\, track safety\, and driving techniques tailored to maximize your performance on the speedway. This hands-on instruction ensures that drivers of all experience levels feel confident and prepared to take on the challenge. \nOnce geared up in official racing attire\, it’s time for the main event. Settle into the cockpit of a powerful race-prepped stock car\, fire up the engine\, and feel the adrenaline surge as you navigate the banked corners and straightaways of New Smyrna Speedway. Each lap provides the authentic sensation of being a pro driver competing in a high-stakes race. \nIf you’re not ready to drive\, ride-along experiences are available\, where you’ll join a professional driver as they demonstrate the full-throttle power and precision of a racecar\, giving you an unforgettable perspective from the passenger seat. \nThis one-of-a-kind experience is perfect for thrill-seekers\, bucket-list chasers\, and racing enthusiasts looking for a taste of the action that legends like Jeffrey Earnhardt live for. It’s the ultimate way to connect with the sport and create memories that will last a lifetime. \nKey Features:\n\nDrive or ride in a real racecar on the legendary New Smyrna Speedway.\nProfessional training to ensure a safe and exhilarating experience.\nMultiple packages tailored to your desired intensity and duration.\nAll equipment provided—just bring your excitement and energy.\nA fun and safe environment suitable for all skill levels.\n\nRev your engines and join the action at the Jeffrey Earnhardt Racing Experience at New Smyrna Speedway—where the track becomes your playground! \nFOR A LIMITED TIME ALL DRIVING PACKAGES ARE 50% OFF!\nBOOK NOW
URL:https://jeffreyearnhardtracingexperience.com/event/new-smyrna-speedway-3-29-26/
LOCATION:New Smyrna Speedway\, 3939 FL-44\, New Smyrna Beach\, New Smyrna\, FL\, 32168\, United States
CATEGORIES:Florida,March 2026
ATTACH;FMTTYPE=image/jpeg:https://jeffreyearnhardtracingexperience.com/wp-content/uploads/2024/11/new_smyrna_speedway.jpg
ORGANIZER;CN="Jeffrey Earnhardt Racing Experience":MAILTO:support@jeffreyearnhardtracingexperience.com
END:VEVENT
BEGIN:VEVENT
DTSTART;TZID=America/New_York:20261107T090000
DTEND;TZID=America/New_York:20261107T150000
DTSTAMP:20260421T134712
CREATED:20260407T194529Z
LAST-MODIFIED:20260407T194712Z
UID:10000117-1794042000-1794063600@jeffreyearnhardtracingexperience.com
SUMMARY:Five Flags Speedway
DESCRIPTION:Jeffrey Earnhardt Racing Experience at Five Flags Speedway \nGet ready to feel the roar of the engine and the thrill of the track at Five Flags Speedway with the Jeffrey Earnhardt Racing Experience! Known as the home of the prestigious Snowball Derby\, this historic half-mile asphalt oval in Pensacola\, Florida\, offers the perfect backdrop for your high-speed racing adventure. \nYour day kicks off with a professional orientation session led by experienced instructors who will teach you the ins and outs of stock car driving. Learn how to handle the car\, navigate the track\, and stay safe while experiencing the power of a race-prepped stock car. Whether you’re a first-time driver or a lifelong racing fan\, our training ensures you’re ready to take on the track. \nOnce suited up in authentic racing gear\, you’ll climb into the driver’s seat and fire up the engine. Feel the rush as you accelerate down the straightaways and take on the banked turns of Five Flags Speedway\, channeling your inner racing pro. \nFor those who prefer to enjoy the ride without driving\, our ride-along packages let you experience the speed and precision of the track with a professional driver at the wheel. \nThe Jeffrey Earnhardt Racing Experience at Five Flags Speedway is perfect for thrill-seekers\, motorsports enthusiasts\, or anyone looking to cross an unforgettable experience off their bucket list. \nHighlights:\n\nDrive a Racecar on the legendary Five Flags Speedway.\nProfessional Training ensures safety and confidence for all participants.\nRide-Along Packages Available for non-drivers seeking an adrenaline rush.\nNo Experience Needed – Perfect for beginners and seasoned fans alike.\nUpgrades Available to customize your experience.\n\nFeel the excitement of racing on one of America’s most famous short tracks. Book your spot today and experience the Jeffrey Earnhardt Racing Experience at Five Flags Speedway! 🏁 \nFOR A LIMITED TIME ALL DRIVING PACKAGES ARE 50% OFF!\nBOOK NOW
URL:https://jeffreyearnhardtracingexperience.com/event/five-flags-speedway-11-7-26/
LOCATION:Five Flags Speedway\, 7451 Pine Forest Rd\, Pensacola\, FL\, 32526\, United States
CATEGORIES:Florida,November 2026
ATTACH;FMTTYPE=image/jpeg:https://jeffreyearnhardtracingexperience.com/wp-content/uploads/2024/11/five_flags_speedway.jpg
ORGANIZER;CN="Jeffrey Earnhardt Racing Experience":MAILTO:support@jeffreyearnhardtracingexperience.com
END:VEVENT
BEGIN:VEVENT
DTSTART;TZID=America/New_York:20261121T090000
DTEND;TZID=America/New_York:20261121T170000
DTSTAMP:20260421T134712
CREATED:20251121T212404Z
LAST-MODIFIED:20260222T120631Z
UID:10000101-1795251600-1795280400@jeffreyearnhardtracingexperience.com
SUMMARY:New Smyrna Speedway
DESCRIPTION:Step into the fast lane with the Jeffrey Earnhardt Racing Experience\, now at the iconic New Smyrna Speedway in New Smyrna Beach\, Florida. This exhilarating experience gives everyday fans the unique opportunity to drive a Late Model\, Super Late Model or Open Wheel Modified Racecar on one of the most renowned half-mile asphalt tracks in the country. \nYour journey begins with a detailed orientation session led by skilled racing professionals. Learn the essentials of racecar operation\, track safety\, and driving techniques tailored to maximize your performance on the speedway. This hands-on instruction ensures that drivers of all experience levels feel confident and prepared to take on the challenge. \nOnce geared up in official racing attire\, it’s time for the main event. Settle into the cockpit of a powerful race-prepped stock car\, fire up the engine\, and feel the adrenaline surge as you navigate the banked corners and straightaways of New Smyrna Speedway. Each lap provides the authentic sensation of being a pro driver competing in a high-stakes race. \nIf you’re not ready to drive\, ride-along experiences are available\, where you’ll join a professional driver as they demonstrate the full-throttle power and precision of a racecar\, giving you an unforgettable perspective from the passenger seat. \nThis one-of-a-kind experience is perfect for thrill-seekers\, bucket-list chasers\, and racing enthusiasts looking for a taste of the action that legends like Jeffrey Earnhardt live for. It’s the ultimate way to connect with the sport and create memories that will last a lifetime. \nKey Features:\n\nDrive or ride in a real racecar on the legendary New Smyrna Speedway.\nProfessional training to ensure a safe and exhilarating experience.\nMultiple packages tailored to your desired intensity and duration.\nAll equipment provided—just bring your excitement and energy.\nA fun and safe environment suitable for all skill levels.\n\nRev your engines and join the action at the Jeffrey Earnhardt Racing Experience at New Smyrna Speedway—where the track becomes your playground! \nFOR A LIMITED TIME ALL DRIVING PACKAGES ARE 50% OFF!\nBOOK NOW
URL:https://jeffreyearnhardtracingexperience.com/event/new-smyrna-speedway-11-7-26/
LOCATION:New Smyrna Speedway\, 3939 FL-44\, New Smyrna Beach\, New Smyrna\, FL\, 32168\, United States
CATEGORIES:Florida,November 2026
ATTACH;FMTTYPE=image/jpeg:https://jeffreyearnhardtracingexperience.com/wp-content/uploads/2024/11/new_smyrna_speedway.jpg
ORGANIZER;CN="Jeffrey Earnhardt Racing Experience":MAILTO:support@jeffreyearnhardtracingexperience.com
END:VEVENT
END:VCALENDAR