BEGIN:VCALENDAR
VERSION:2.0
PRODID:-//Jeffrey Earnhardt Racing Experience - ECPv6.15.20//NONSGML v1.0//EN
CALSCALE:GREGORIAN
METHOD:PUBLISH
X-WR-CALNAME:Jeffrey Earnhardt Racing Experience
X-ORIGINAL-URL:https://jeffreyearnhardtracingexperience.com
X-WR-CALDESC:Events for Jeffrey Earnhardt Racing Experience
REFRESH-INTERVAL;VALUE=DURATION:PT1H
X-Robots-Tag:noindex
X-PUBLISHED-TTL:PT1H
BEGIN:VTIMEZONE
TZID:America/New_York
BEGIN:DAYLIGHT
TZOFFSETFROM:-0500
TZOFFSETTO:-0400
TZNAME:EDT
DTSTART:20240310T070000
END:DAYLIGHT
BEGIN:STANDARD
TZOFFSETFROM:-0400
TZOFFSETTO:-0500
TZNAME:EST
DTSTART:20241103T060000
END:STANDARD
BEGIN:DAYLIGHT
TZOFFSETFROM:-0500
TZOFFSETTO:-0400
TZNAME:EDT
DTSTART:20250309T070000
END:DAYLIGHT
BEGIN:STANDARD
TZOFFSETFROM:-0400
TZOFFSETTO:-0500
TZNAME:EST
DTSTART:20251102T060000
END:STANDARD
BEGIN:DAYLIGHT
TZOFFSETFROM:-0500
TZOFFSETTO:-0400
TZNAME:EDT
DTSTART:20260308T070000
END:DAYLIGHT
BEGIN:STANDARD
TZOFFSETFROM:-0400
TZOFFSETTO:-0500
TZNAME:EST
DTSTART:20261101T060000
END:STANDARD
END:VTIMEZONE
BEGIN:VEVENT
DTSTART;TZID=America/New_York:20251107T110000
DTEND;TZID=America/New_York:20251108T220000
DTSTAMP:20260421T183503
CREATED:20251027T184227Z
LAST-MODIFIED:20251027T184227Z
UID:10000062-1762513200-1762639200@jeffreyearnhardtracingexperience.com
SUMMARY:Real Racing Experience at New Smyrna Speedway
DESCRIPTION:The Racing Series truly is the pinnacle experience of what we offer. NASCAR style Cup cars on a super speedway are amazing!  A Modified at speed is incredible!!  Driving a super car on a road course is incredible. However\, there is nothing\, I mean nothing in the world like racing in a Saturday Night Feature at a short track in front of a crowd. There is a reason that Cup superstars return to the short track\, now is your chance to race where they all got started.  You will do it in twin 25 lap features! \nThere are limited spots for this and all spots are booked on a first come first serve basis. \nThis is a 2 day event where you will drive over 150 laps and really race. \nVIEW COMPLETE INFO & SIGN UP\n 
URL:https://jeffreyearnhardtracingexperience.com/event/real-racing-experience-at-new-smyrna-speedway/
LOCATION:New Smyrna Speedway\, 3939 FL-44\, New Smyrna Beach\, New Smyrna\, FL\, 32168\, United States
CATEGORIES:Florida,November 2025
ATTACH;FMTTYPE=image/jpeg:https://jeffreyearnhardtracingexperience.com/wp-content/uploads/2024/11/new_smyrna_speedway.jpg
ORGANIZER;CN="Jeffrey Earnhardt Racing Experience":MAILTO:support@jeffreyearnhardtracingexperience.com
END:VEVENT
END:VCALENDAR