BEGIN:VCALENDAR
VERSION:2.0
PRODID:-//Jeffrey Earnhardt Racing Experience - ECPv6.15.20//NONSGML v1.0//EN
CALSCALE:GREGORIAN
METHOD:PUBLISH
X-ORIGINAL-URL:https://jeffreyearnhardtracingexperience.com
X-WR-CALDESC:Events for Jeffrey Earnhardt Racing Experience
REFRESH-INTERVAL;VALUE=DURATION:PT1H
X-Robots-Tag:noindex
X-PUBLISHED-TTL:PT1H
BEGIN:VTIMEZONE
TZID:America/New_York
BEGIN:DAYLIGHT
TZOFFSETFROM:-0500
TZOFFSETTO:-0400
TZNAME:EDT
DTSTART:20250309T070000
END:DAYLIGHT
BEGIN:STANDARD
TZOFFSETFROM:-0400
TZOFFSETTO:-0500
TZNAME:EST
DTSTART:20251102T060000
END:STANDARD
BEGIN:DAYLIGHT
TZOFFSETFROM:-0500
TZOFFSETTO:-0400
TZNAME:EDT
DTSTART:20260308T070000
END:DAYLIGHT
BEGIN:STANDARD
TZOFFSETFROM:-0400
TZOFFSETTO:-0500
TZNAME:EST
DTSTART:20261101T060000
END:STANDARD
BEGIN:DAYLIGHT
TZOFFSETFROM:-0500
TZOFFSETTO:-0400
TZNAME:EDT
DTSTART:20270314T070000
END:DAYLIGHT
BEGIN:STANDARD
TZOFFSETFROM:-0400
TZOFFSETTO:-0500
TZNAME:EST
DTSTART:20271107T060000
END:STANDARD
END:VTIMEZONE
BEGIN:VEVENT
DTSTART;TZID=America/New_York:20260322T100000
DTEND;TZID=America/New_York:20260322T160000
DTSTAMP:20260422T181704
CREATED:20251120T205438Z
LAST-MODIFIED:20251120T213305Z
UID:10000093-1774173600-1774195200@jeffreyearnhardtracingexperience.com
SUMMARY:Stockton99 Speedway
DESCRIPTION:Jeffrey Earnhardt Racing Experience at Stockton 99 Speedway \nExperience the thrill of real short-track racing at one of California’s most historic and action-packed ovals—the Jeffrey Earnhardt Racing Experience at Stockton 99 Speedway! This tight\, high-banked ¼-mile asphalt oval has been a proving ground for West Coast racing legends for decades\, and now you get the chance to take the wheel on this iconic track. \nYour day begins with a pro-led driver orientation covering safety\, track lines\, braking points\, and techniques to help you get the most speed and confidence out of every lap. Whether you’re brand-new to racing or a lifelong fan\, our instructors make the experience accessible\, exciting\, and unforgettable. \nOnce you’re suited up and strapped into one of our real stock cars\, you’ll head onto the racing surface to feel the raw power and tight\, fast rhythm that makes Stockton 99 famous. The track’s quick straightaways and sharp corners give you an authentic short-track challenge—no pace car\, just your driving skills and the roar of the engine. \nIf you’d rather feel the speed without taking the wheel\, our Ride-Along Experience puts you in the passenger seat for true race-pace laps with a professional driver. \nHighlights:\n🏁 Drive a real stock car on California’s legendary ¼-mile short track⚡ Fast\, intense\, and technical—a perfect short-track driving challenge👨‍🏫 Professional instruction makes it perfect for first-timers and enthusiasts💨 No pace car🔥 Ride-Along option for those who want the thrill without driving🎁 A great gift or bucket-list experience for any race fan \nGet ready to feel every bump\, bank\, and blast of speed.Reserve your Jeffrey Earnhardt Racing Experience at Stockton 99 Speedway today! 🏁 \nFOR A LIMITED TIME ALL DRIVING PACKAGES ARE 50% OFF!\nBOOK NOW
URL:https://jeffreyearnhardtracingexperience.com/event/stockton99-speedway-3-22-26/
LOCATION:Stockton99 Speedway\, 4105 N Wilson Way\, Stockton\, CA\, 95205\, United States
CATEGORIES:California,March 2026
ATTACH;FMTTYPE=image/png:https://jeffreyearnhardtracingexperience.com/wp-content/uploads/2025/11/stockton99-speedway-logo.png
ORGANIZER;CN="Jeffrey Earnhardt Racing Experience":MAILTO:support@jeffreyearnhardtracingexperience.com
END:VEVENT
END:VCALENDAR