BEGIN:VCALENDAR
VERSION:2.0
PRODID:-//Jeffrey Earnhardt Racing Experience - ECPv6.15.20//NONSGML v1.0//EN
CALSCALE:GREGORIAN
METHOD:PUBLISH
X-ORIGINAL-URL:https://jeffreyearnhardtracingexperience.com
X-WR-CALDESC:Events for Jeffrey Earnhardt Racing Experience
REFRESH-INTERVAL;VALUE=DURATION:PT1H
X-Robots-Tag:noindex
X-PUBLISHED-TTL:PT1H
BEGIN:VTIMEZONE
TZID:America/New_York
BEGIN:DAYLIGHT
TZOFFSETFROM:-0500
TZOFFSETTO:-0400
TZNAME:EDT
DTSTART:20240310T070000
END:DAYLIGHT
BEGIN:STANDARD
TZOFFSETFROM:-0400
TZOFFSETTO:-0500
TZNAME:EST
DTSTART:20241103T060000
END:STANDARD
BEGIN:DAYLIGHT
TZOFFSETFROM:-0500
TZOFFSETTO:-0400
TZNAME:EDT
DTSTART:20250309T070000
END:DAYLIGHT
BEGIN:STANDARD
TZOFFSETFROM:-0400
TZOFFSETTO:-0500
TZNAME:EST
DTSTART:20251102T060000
END:STANDARD
BEGIN:DAYLIGHT
TZOFFSETFROM:-0500
TZOFFSETTO:-0400
TZNAME:EDT
DTSTART:20260308T070000
END:DAYLIGHT
BEGIN:STANDARD
TZOFFSETFROM:-0400
TZOFFSETTO:-0500
TZNAME:EST
DTSTART:20261101T060000
END:STANDARD
END:VTIMEZONE
BEGIN:VEVENT
DTSTART;TZID=America/New_York:20250810T120000
DTEND;TZID=America/New_York:20250810T170000
DTSTAMP:20260420T152927
CREATED:20250111T045911Z
LAST-MODIFIED:20250111T045911Z
UID:10000019-1754827200-1754845200@jeffreyearnhardtracingexperience.com
SUMMARY:Star Speedway
DESCRIPTION:Jeffrey Earnhardt Racing Experience at Star Speedway \nExperience the adrenaline-pumping action of stock car racing at Star Speedway with the Jeffrey Earnhardt Racing Experience! Located in Epping\, New Hampshire\, this 1/4-mile high-banked oval is the perfect setting for a hands-on racing adventure. Whether you’re a motorsports fan or simply looking for an unforgettable thrill\, this is your chance to feel the excitement of real short-track racing. \nYour day starts with an engaging orientation led by experienced instructors. They’ll guide you through the essentials of stock car driving\, including safety protocols\, track dynamics\, and car handling tips. No prior experience is required—just bring your enthusiasm\, and we’ll handle the rest! \nOnce you’re suited up in professional racing gear\, it’s time to climb behind the wheel of a late model\, super late model or open wheel modified racecar. Feel the power as you fire up the engine and navigate the tight turns and straightaways of Star Speedway. Each lap delivers the rush of speed\, skill\, and excitement that makes short-track racing so iconic. \nPrefer to enjoy the ride? Opt for one of our ride-along packages and let a professional driver take you on an unforgettable high-speed run around the track. \nPerfect for individuals\, groups\, or special occasions\, the Jeffrey Earnhardt Racing Experience at Star Speedway offers a day of unforgettable fun and excitement for everyone. \nHighlights:\n\nDrive a Racecar on the fast and thrilling Star Speedway oval.\nProfessional Instruction ensures safety and confidence on the track.\nRide-Along Packages for non-drivers seeking the ultimate thrill.\nNo Experience Required – Perfect for beginners and seasoned racing fans.\nCustom Upgrades available to make your experience even more memorable.\n\nDon’t just dream about racing—live it! Book your spot today and join us at Star Speedway for the Jeffrey Earnhardt Racing Experience. 🏁 \nFOR A LIMITED TIME ALL DRIVING PACKAGES ARE 50% OFF!\nBOOK NOW
URL:https://jeffreyearnhardtracingexperience.com/event/star-speedway/
LOCATION:Star Speedway\, 176 Exeter Rd\, Epping\, NH\, 03042\, United States
CATEGORIES:August 2025,New Hampshire
ATTACH;FMTTYPE=image/png:https://jeffreyearnhardtracingexperience.com/wp-content/uploads/2024/12/Star-Speedway.png
ORGANIZER;CN="Jeffrey Earnhardt Racing Experience":MAILTO:support@jeffreyearnhardtracingexperience.com
END:VEVENT
BEGIN:VEVENT
DTSTART;TZID=America/New_York:20250816T080000
DTEND;TZID=America/New_York:20250816T170000
DTSTAMP:20260420T152927
CREATED:20250111T050632Z
LAST-MODIFIED:20250111T050838Z
UID:10000022-1755331200-1755363600@jeffreyearnhardtracingexperience.com
SUMMARY:Lucas Oil Indianapolis Raceway Park
DESCRIPTION:Jeffrey Earnhardt Racing Experience at Lucas Oil Raceway \nGet ready to rev your engine and feel the adrenaline of real stock car racing at Lucas Oil Raceway with the Jeffrey Earnhardt Racing Experience! Located in Brownsburg\, Indiana\, this iconic 0.686-mile oval track is known for its rich motorsports history and challenging layout\, making it the perfect venue to fulfill your racing dreams. \nYour day begins with a professional orientation led by experienced instructors. They’ll walk you through car handling\, safety procedures\, and tips for mastering the track\, ensuring you’re fully prepared to get behind the wheel. Whether you’re a first-time driver or a motorsport enthusiast\, our team is here to make your day unforgettable. \nOnce suited up in authentic racing gear\, you’ll climb into the driver’s seat of a late model\, super late model or open wheel modified racecar and take control. Experience the thrill of navigating the straightaways and sweeping turns of Lucas Oil Raceway\, channeling the speed and excitement of real racing action. \nFor those who prefer the excitement without driving\, our ride-along packages allow you to experience the full power of these machines from the passenger seat with a professional driver at the helm. \nPerfect for individuals\, group outings\, or special events\, the Jeffrey Earnhardt Racing Experience at Lucas Oil Raceway delivers an unbeatable combination of speed\, skill\, and pure fun. \nHighlights:\n\nDrive a Racecar on the historic Lucas Oil Raceway oval.\nProfessional Training ensures a safe and exciting experience.\nRide-Along Packages available for non-drivers who want to feel the rush of the track.\nNo Experience Necessary – Ideal for beginners and racing enthusiasts alike.\nCustom Upgrades to enhance your racing adventure.\n\nDon’t miss this chance to make your racing dreams a reality. Book your spot today and experience the excitement of Lucas Oil Raceway with the Jeffrey Earnhardt Racing Experience! 🏁 \nFOR A LIMITED TIME ALL DRIVING PACKAGES ARE 50% OFF!\nBOOK NOW
URL:https://jeffreyearnhardtracingexperience.com/event/lucas-oil-indianapolis-raceway-park-8-16-25/
LOCATION:Lucas Oil Indianapolis Raceway Park\, 10267 US Hwy 136\, Indianapolis\, IN\, 46234\, United States
CATEGORIES:August 2025,Indiana
ATTACH;FMTTYPE=image/png:https://jeffreyearnhardtracingexperience.com/wp-content/uploads/2024/11/lucas-oil-indianapolis-raceway-logo.png
END:VEVENT
BEGIN:VEVENT
DTSTART;TZID=America/New_York:20250817T090000
DTEND;TZID=America/New_York:20250817T170000
DTSTAMP:20260420T152927
CREATED:20250113T192125Z
LAST-MODIFIED:20250813T163056Z
UID:10000029-1755421200-1755450000@jeffreyearnhardtracingexperience.com
SUMMARY:Anderson Speedway - IN
DESCRIPTION:Jeffrey Earnhardt Racing Experience at Anderson Speedway \nExperience the adrenaline and excitement of real stock car racing at Anderson Speedway with the Jeffrey Earnhardt Racing Experience! Located in Anderson\, Indiana\, this historic 1/4-mile high-banked asphalt oval\, known for its tight turns and fast laps\, is the perfect setting to live out your racing dreams. \nYour adventure begins with an in-depth orientation led by our experienced instructors. They’ll walk you through essential safety procedures\, car controls\, and strategies for navigating Anderson Speedway’s challenging layout. No prior experience is necessary—our team will ensure you’re ready for an unforgettable day at the track. \nOnce you’re suited up in professional racing gear\, it’s time to take the wheel of a late model\, super late model or open wheel modified racecar. Feel the power of the engine as you navigate the sharp turns and straightaways of one of the most exciting short tracks in the country. Every lap provides the thrill of true stock car racing. \nNot ready to drive? Hop into the passenger seat with our ride-along packages\, where a professional driver will take you on a high-speed lap around the track\, giving you a taste of what it’s like to race at Anderson Speedway. \nPerfect for individuals\, groups\, or special occasions\, the Jeffrey Earnhardt Racing Experience at Anderson Speedway offers an action-packed\, one-of-a-kind adventure you won’t want to miss. \nHighlights:\n\nDrive a Racecar on the iconic Anderson Speedway oval.\nProfessional Training to ensure safety and confidence on the track.\nRide-Along Packages for those who want to feel the thrill without driving.\nNo Experience Necessary – Designed for all skill levels.\nCustomizable Upgrades to enhance your time at the track.\n\nReady to race? Book your spot today and experience the excitement of Anderson Speedway with the Jeffrey Earnhardt Racing Experience. 🏁 \nFOR A LIMITED TIME ALL DRIVING PACKAGES ARE 50% OFF!\nBOOK NOW
URL:https://jeffreyearnhardtracingexperience.com/event/anderson-speedway-in/
LOCATION:Anderson Speedway\, 1311 Martin Lthr Kng Jr Blvd\, Anderson\, IN\, 46016\, United States
CATEGORIES:August 2025,Indiana
ATTACH;FMTTYPE=image/jpeg:https://jeffreyearnhardtracingexperience.com/wp-content/uploads/2024/12/anderson-speedway-indiana-logo.jpg
ORGANIZER;CN="Jeffrey Earnhardt Racing Experience":MAILTO:support@jeffreyearnhardtracingexperience.com
END:VEVENT
BEGIN:VEVENT
DTSTART;TZID=America/New_York:20250920T090000
DTEND;TZID=America/New_York:20250920T170000
DTSTAMP:20260420T152927
CREATED:20250113T160626Z
LAST-MODIFIED:20250113T191246Z
UID:10000027-1758358800-1758387600@jeffreyearnhardtracingexperience.com
SUMMARY:Jennerstown Speedway
DESCRIPTION:Jeffrey Earnhardt Racing Experience at Jennerstown Speedway \nFeel the thrill of real stock car racing at the iconic Jennerstown Speedway with the Jeffrey Earnhardt Racing Experience! Nestled in the scenic Laurel Highlands of Pennsylvania\, this fast and smooth 1/2-mile paved oval provides the perfect stage for an unforgettable day of high-speed excitement. \nYour racing adventure begins with a detailed orientation led by experienced instructors. They’ll guide you through safety protocols\, car handling techniques\, and tips for mastering Jennerstown’s well-maintained track. Whether you’re a first-timer or a seasoned racing enthusiast\, our team ensures you’re fully prepared to take on the challenge. \nOnce you’re suited up in professional racing gear\, it’s time to climb behind the wheel of a late model\, super late model or open wheel modified racecar. Experience the raw power as you accelerate down Jennerstown’s long straightaways and navigate its smooth\, sweeping turns. Each lap delivers an unmatched rush of adrenaline and excitement. \nNot ready to drive? Our ride-along packages allow you to experience the speed and precision of professional racing from the passenger seat as a skilled driver takes you on a high-speed journey around the track. \nPerfect for individuals\, group events\, or special occasions\, the Jeffrey Earnhardt Racing Experience at Jennerstown Speedway is your chance to live the dream of being a racecar driver. \nHighlights:\n\nDrive a Racecar on the historic Jennerstown Speedway.\nProfessional Training to ensure a safe and exhilarating experience.\nRide-Along Packages for non-drivers who want to feel the thrill of the track.\nNo Experience Necessary – Ideal for beginners and racing fans alike.\nCustomizable Upgrades to enhance your day on the track.\n\nDon’t miss this opportunity to race at one of Pennsylvania’s premier short tracks. Book your spot today and join us at Jennerstown Speedway for an unforgettable racing experience with the Jeffrey Earnhardt Racing Experience! 🏁 \nFOR A LIMITED TIME ALL DRIVING PACKAGES ARE 50% OFF!\nBOOK NOW
URL:https://jeffreyearnhardtracingexperience.com/event/jennerstown-speedway-9-20-25/
LOCATION:Jennerstown Speedway\, 206 Somerset St\,\, Jennerstown\, PA\, 15547\, United States
CATEGORIES:August 2025,Pennsylvania
ATTACH;FMTTYPE=image/jpeg:https://jeffreyearnhardtracingexperience.com/wp-content/uploads/2024/12/jennerstown.jpg
ORGANIZER;CN="Jeffrey Earnhardt Racing Experience":MAILTO:support@jeffreyearnhardtracingexperience.com
END:VEVENT
END:VCALENDAR